{"text_format":"1","workbook":"xlsx","n_sheets":13,"sheets":["生産履歴票","データ1","データ2","生産履歴票設定","台帳作成","品種台帳","ほ場台帳","作業台帳","機械台帳","農薬台帳","肥料台帳","生産履歴票設定保存","作業用"],"not_rendered":{"charts":0,"images":10,"macros":1,"external_links":0,"defined_names":1,"comments":0,"pivot_tables":0},"unopened":[],"bounds":{"document_bytes":16777216,"sheet_cells":100000,"rows_first":2000,"rows_last":500,"rows_between":2000,"halvings":0,"cell_chars":16384,"cell_head_chars":4096},"cells_cut":0,"cells_raw":0,"read":"whole","date_system":"1900"}

{"sheet":"生産履歴票","index":0,"n_rows":1086,"n_cols":9,"rows_kept":1086,"cut":false,"hidden":false,"merged":[[5,1,5,2],[6,1,6,2],[3,1,3,2],[4,1,4,2]]}
["生産履歴票"]
["年度"]
["作目名"]
["品種名"]
["ほ場番号"]
["ほ場名",{"$f":"IF(B5=\"\",\"\",IF(VLOOKUP(B5,ほ場台帳!$C$5:$H$1001,2,0)=\"\",\"\",VLOOKUP(B5,ほ場台帳!$C$5:$H$1001,2,0)))","v":""}]
["地番",{"$f":"IF(B5=\"\",\"\",IF(VLOOKUP(B5,ほ場台帳!$C$5:$H$1001,3,0)=\"\",\"\",VLOOKUP(B5,ほ場台帳!$C$5:$H$1001,3,0)))","v":""}]
["面積",{"$f":"IF(B5=\"\",\"\",IF(VLOOKUP(B5,ほ場台帳!$C$5:$H$1001,4,0)=\"\",\"\",VLOOKUP(B5,ほ場台帳!$C$5:$H$1001,4,0)))","v":""}]
[]
[]
[]
[]
[]
[]
[]
[]
[]
[]
[]
[]
[]
[]
[]
[]
[]
[]
[]
[]
[]
[]
[]
[]
[]
[]
[]
[]
[]
[]
[]
[]
[]
[]
[]
[]
[]
[]
[]
[]
[]
[]
[]
[]
[]
[]
[]
[]
[]
[]
[]
[]
[]
[]
[]
[]
[]
[]
[]
[]
[]
[]
[]
[]
[]
[]
[]
[]
[]
[]
[]
[]
[]
[]
[]
[]
[]
[]
[]
[]
[]
[]
[]
[]
[]
[]
[]
[]
[]
[]
[]
[]
[]
[]
[]
[]
[]
[]
[]
[]
[]
[]
[]
[]
[]
[]
[]
[]
[]
[]
[]
[]
[]
[]
[]
[]
[]
[]
[]
[]
[]
[]
[]
[]
[]
[]
[]
[]
[]
[]
[]
[]
[]
[]
[]
[]
[]
[]
[]
[]
[]
[]
[]
[]
[]
[]
[]
[]
[]
[]
[]
[]
[]
[]
[]
[]
[]
[]
[]
[]
[]
[]
[]
[]
[]
[]
[]
[]
[]
[]
[]
[]
[]
[]
[]
[]
[]
[]
[]
[]
[]
[]
[]
[]
[]
[]
[]
[]
[]
[]
[]
[]
[]
[]
[]
[]
[]
[]
[]
[]
[]
[]
[]
[]
[]
[]
[]
[]
[]
[]
[]
[]
[]
[]
[]
[]
[]
[]
[]
[]
[]
[]
[]
[]
[]
[]
[]
[]
[]
[]
[]
[]
[]
[]
[]
[]
[]
[]
[]
[]
[]
[]
[]
[]
[]
[]
[]
[]
[]
[]
[]
[]
[]
[]
[]
[]
[]
[]
[]
[]
[]
[]
[]
[]
[]
[]
[]
[]
[]
[]
[]
[]
[]
[]
[]
[]
[]
[]
[]
[]
[]
[]
[]
[]
[]
[]
[]
[]
[]
[]
[]
[]
[]
[]
[]
[]
[]
[]
[]
[]
[]
[]
[]
[]
[]
[]
[]
[]
[]
[]
[]
[]
[]
[]
[]
[]
[]
[]
[]
[]
[]
[]
[]
[]
[]
[]
[]
[]
[]
[]
[]
[]
[]
[]
[]
[]
[]
[]
[]
[]
[]
[]
[]
[]
[]
[]
[]
[]
[]
[]
[]
[]
[]
[]
[]
[]
[]
[]
[]
[]
[]
[]
[]
[]
[]
[]
[]
[]
[]
[]
[]
[]
[]
[]
[]
[]
[]
[]
[]
[]
[]
[]
[]
[]
[]
[]
[]
[]
[]
[]
[]
[]
[]
[]
[]
[]
[]
[]
[]
[]
[]
[]
[]
[]
[]
[]
[]
[]
[]
[]
[]
[]
[]
[]
[]
[]
[]
[]
[]
[]
[]
[]
[]
[]
[]
[]
[]
[]
[]
[]
[]
[]
[]
[]
[]
[]
[]
[]
[]
[]
[]
[]
[]
[]
[]
[]
[]
[]
[]
[]
[]
[]
[]
[]
[]
[]
[]
[]
[]
[]
[]
[]
[]
[]
[]
[]
[]
[]
[]
[]
[]
[]
[]
[]
[]
[]
[]
[]
[]
[]
[]
[]
[]
[]
[]
[]
[]
[]
[]
[]
[]
[]
[]
[]
[]
[]
[]
[]
[]
[]
[]
[]
[]
[]
[]
[]
[]
[]
[]
[]
[]
[]
[]
[]
[]
[]
[]
[]
[]
[]
[]
[]
[]
[]
[]
[]
[]
[]
[]
[]
[]
[]
[]
[]
[]
[]
[]
[]
[]
[]
[]
[]
[]
[]
[]
[]
[]
[]
[]
[]
[]
[]
[]
[]
[]
[]
[]
[]
[]
[]
[]
[]
[]
[]
[]
[]
[]
[]
[]
[]
[]
[]
[]
[]
[]
[]
[]
[]
[]
[]
[]
[]
[]
[]
[]
[]
[]
[]
[]
[]
[]
[]
[]
[]
[]
[]
[]
[]
[]
[]
[]
[]
[]
[]
[]
[]
[]
[]
[]
[]
[]
[]
[]
[]
[]
[]
[]
[]
[]
[]
[]
[]
[]
[]
[]
[]
[]
[]
[]
[]
[]
[]
[]
[]
[]
[]
[]
[]
[]
[]
[]
[]
[]
[]
[]
[]
[]
[]
[]
[]
[]
[]
[]
[]
[]
[]
[]
[]
[]
[]
[]
[]
[]
[]
[]
[]
[]
[]
[]
[]
[]
[]
[]
[]
[]
[]
[]
[]
[]
[]
[]
[]
[]
[]
[]
[]
[]
[]
[]
[]
[]
[]
[]
[]
[]
[]
[]
[]
[]
[]
[]
[]
[]
[]
[]
[]
[]
[]
[]
[]
[]
[]
[]
[]
[]
[]
[]
[]
[]
[]
[]
[]
[]
[]
[]
[]
[]
[]
[]
[]
[]
[]
[]
[]
[]
[]
[]
[]
[]
[]
[]
[]
[]
[]
[]
[]
[]
[]
[]
[]
[]
[]
[]
[]
[]
[]
[]
[]
[]
[]
[]
[]
[]
[]
[]
[]
[]
[]
[]
[]
[]
[]
[]
[]
[]
[]
[]
[]
[]
[]
[]
[]
[]
[]
[]
[]
[]
[]
[]
[]
[]
[]
[]
[]
[]
[]
[]
[]
[]
[]
[]
[]
[]
[]
[]
[]
[]
[]
[]
[]
[]
[]
[]
[]
[]
[]
[]
[]
[]
[]
[]
[]
[]
[]
[]
[]
[]
[]
[]
[]
[]
[]
[]
[]
[]
[]
[]
[]
[]
[]
[]
[]
[]
[]
[]
[]
[]
[]
[]
[]
[]
[]
[]
[]
[]
[]
[]
[]
[]
[]
[]
[]
[]
[]
[]
[]
[]
[]
[]
[]
[]
[]
[]
[]
[]
[]
[]
[]
[]
[]
[]
[]
[]
[]
[]
[]
[]
[]
[]
[]
[]
[]
[]
[]
[]
[]
[]
[]
[]
[]
[]
[]
[]
[]
[]
[]
[]
[]
[]
[]
[]
[]
[]
[]
[]
[]
[]
[]
[]
[]
[]
[]
[]
[]
[]
[]
[]
[]
[]
[]
[]
[]
[]
[]
[]
[]
[]
[]
[]
[]
[]
[]
[]
[]
[]
[]
[]
[]
[]
[]
[]
[]
[]
[]
[]
[]
[]
[]
[]
[]
[]
[]
[]
[]
[]
[]
[]
[]
[]
[]
[]
[]
[]
[]
[]
[]
[]
[]
[]
[]
[]
[]
[]
[]
[]
[]
[]
[]
[]
[]
[]
[]
[]
[]
[]
[]
[null,null,null,null,null,null,null,null,0]
[null,null,null,null,null,null,null,null,27]
[null,null,null,null,null,null,null,null,31]
[null,null,null,null,null,null,null,null,32]
[null,null,null,null,null,null,null,null,33]
[null,null,null,null,null,null,null,null,34]
[null,null,null,null,null,null,null,null,41]
[null,null,null,null,null,null,null,null,43]
[null,null,null,null,null,null,null,null,44]
[null,null,null,null,null,null,null,null,45]
[null,null,null,null,null,null,null,null,56]
[null,null,null,null,null,null,null,null,57]
[null,null,null,null,null,null,null,null,60]
[null,null,null,null,null,null,null,null,61]
[null,null,null,null,null,null,null,null,67]
[null,null,null,null,null,null,null,null,74]
[null,null,null,null,null,null,null,null,85]
[null,null,null,null,null,null,null,null,91]
[null,null,null,null,null,null,null,null,97]
[null,null,null,null,null,null,null,null,104]
[null,null,null,null,null,null,null,null,105]
[null,null,null,null,null,null,null,null,106]
[null,null,null,null,null,null,null,null,114]
[null,null,null,null,null,null,null,null,121]
[null,null,null,null,null,null,null,null,122]
[null,null,null,null,null,null,null,null,123]
[null,null,null,null,null,null,null,null,124]
[null,null,null,null,null,null,null,null,127]
[null,null,null,null,null,null,null,null,128]
[null,null,null,null,null,null,null,null,129]
[null,null,null,null,null,null,null,null,133]
[null,null,null,null,null,null,null,null,139]
[null,null,null,null,null,null,null,null,140]
[null,null,null,null,null,null,null,null,141]
[null,null,null,null,null,null,null,null,142]
[null,null,null,null,null,null,null,null,188]
[null,null,null,null,null,null,null,null,226]
[null,null,null,null,null,null,null,null,244]
[null,null,null,null,null,null,null,null,254]
[null,null,null,null,null,null,null,null,282]
[null,null,null,null,null,null,null,null,283]
[null,null,null,null,null,null,null,null,301]
[null,null,null,null,null,null,null,null,316]
[null,null,null,null,null,null,null,null,317]
[null,null,null,null,null,null,null,null,318]
[null,null,null,null,null,null,null,null,325]
[null,null,null,null,null,null,null,null,327]
[null,null,null,null,null,null,null,null,344]
[null,null,null,null,null,null,null,null,346]
[null,null,null,null,null,null,null,null,358]
[null,null,null,null,null,null,null,null,359]
[null,null,null,null,null,null,null,null,368]
[null,null,null,null,null,null,null,null,378]
[null,null,null,null,null,null,null,null,379]
[null,null,null,null,null,null,null,null,389]
[null,null,null,null,null,null,null,null,390]
[null,null,null,null,null,null,null,null,397]
[null,null,null,null,null,null,null,null,418]
[null,null,null,null,null,null,null,null,434]
[null,null,null,null,null,null,null,null,463]
[null,null,null,null,null,null,null,null,465]
[null,null,null,null,null,null,null,null,475]
[null,null,null,null,null,null,null,null,476]
[null,null,null,null,null,null,null,null,480]
[null,null,null,null,null,null,null,null,485]
[null,null,null,null,null,null,null,null,486]
[null,null,null,null,null,null,null,null,493]
[null,null,null,null,null,null,null,null,535]
[null,null,null,null,null,null,null,null,536]
[null,null,null,null,null,null,null,null,553]
[null,null,null,null,null,null,null,null,565]
[null,null,null,null,null,null,null,null,574]
[null,null,null,null,null,null,null,null,584]
[null,null,null,null,null,null,null,null,585]
[null,null,null,null,null,null,null,null,621]
[null,null,null,null,null,null,null,null,623]
[null,null,null,null,null,null,null,null,624]
[null,null,null,null,null,null,null,null,625]
[null,null,null,null,null,null,null,null,626]
[null,null,null,null,null,null,null,null,627]
[null,null,null,null,null,null,null,null,"51-1"]
[null,null,null,null,null,null,null,null,"51-2"]

{"sheet":"データ1","index":1,"n_rows":0,"n_cols":0,"rows_kept":0,"cut":false,"hidden":false,"merged":[]}

{"sheet":"データ2","index":2,"n_rows":0,"n_cols":0,"rows_kept":0,"cut":false,"hidden":false,"merged":[]}

{"sheet":"生産履歴票設定","index":3,"n_rows":177,"n_cols":37,"rows_kept":177,"cut":false,"hidden":false,"merged":[[79,0,80,1],[15,0,15,1],[7,0,8,0],[16,0,18,0],[11,0,14,0],[9,0,10,1],[114,0,115,1],[19,0,21,0],[54,0,56,0],[89,0,91,0],[124,0,126,0],[86,0,88,0],[112,0,113,0],[51,0,53,0],[42,0,43,0],[46,0,49,0],[50,0,50,1],[44,0,45,1],[116,0,119,0],[77,0,78,0],[81,0,84,0],[85,0,85,1],[159,0,161,0],[151,0,154,0],[155,0,155,1],[156,0,158,0],[120,0,120,1],[121,0,123,0],[147,0,148,0],[149,0,150,1]]}
["生産履歴票作成の詳細設定"]
[]
["フォーマット選択"]
[]
["工程区分１"]
["工程区分名"]
["データシート"]
["対象作業"]
[null,null,null,null,null,null,null,null,null,null,null,null,null,null,null,null,null,null,null,null,null,null,null,null,null,null,null,null,null,"列記号２",null,null,null,null,null,"列記号３"]
["生産履歴票に記載する項目名",null,"項目1","項目2","項目3","項目4","項目5","項目6",null,null,null,null,null,null,null,null,null,null,null,null,null,null,null,null,null,null,null,null,null,null,null,null,"ほ場台帳","作業台帳","機械台帳","農薬台帳","肥料台帳"]
[null,null,null,null,null,null,null,null,null,null,null,null,null,null,null,null,null,null,null,null,null,null,null,null,null,null,null,null,null,null,"ほ場台帳",2,{"$f":"IF(ほ場台帳!A$3=\"\",\"\",ほ場台帳!A$3)","v":"データ１"},{"$f":"IF(作業台帳!A$4=\"\",\"\",作業台帳!A$4)","v":"データ１"},{"$f":"IF(機械台帳!A$4=\"\",\"\",機械台帳!A$4)","v":"データ１"},{"$f":"IF(農薬台帳!A$4=\"\",\"\",農薬台帳!A$4)","v":"データ１"},{"$f":"IF(肥料台帳!A$4=\"\",\"\",肥料台帳!A$4)","v":"データ１"}]
["データシート\nの列記号","列記号１",null,null,null,null,null,null,null,{"$f":"IF(C12=\"\",\"\",ASC(C12))","v":""},"","","","","",null,null,null,null,null,null,null,null,null,null,null,null,null,null,null,"作業台帳",3,{"$f":"IF(ほ場台帳!B$3=\"\",\"\",ほ場台帳!B$3)","v":"データ２"},{"$f":"IF(作業台帳!B$4=\"\",\"\",作業台帳!B$4)","v":"データ２"},{"$f":"IF(機械台帳!B$4=\"\",\"\",機械台帳!B$4)","v":"データ２"},{"$f":"IF(農薬台帳!B$4=\"\",\"\",農薬台帳!B$4)","v":"データ２"},{"$f":"IF(肥料台帳!B$4=\"\",\"\",肥料台帳!B$4)","v":"データ２"}]
[null,"列記号２",null,null,null,null,null,null,null,{"$f":"IF(C13=\"\",\"\",ASC(C13))","v":""},"","","","","",null,null,null,null,null,null,null,null,null,null,null,null,null,null,null,"機械台帳",4,{"$f":"IF(ほ場台帳!C$3=\"\",\"\",ほ場台帳!C$3)","v":"ほ場番号"},{"$f":"IF(作業台帳!C$4=\"\",\"\",作業台帳!C$4)","v":"作業名"},{"$f":"IF(機械台帳!C$4=\"\",\"\",機械台帳!C$4)","v":"機械名"},{"$f":"IF(農薬台帳!C$4=\"\",\"\",農薬台帳!C$4)","v":"農薬名"},{"$f":"IF(肥料台帳!C$4=\"\",\"\",肥料台帳!C$4)","v":"肥料名"}]
[null,"列記号３",null,null,null,null,null,null,null,{"$f":"IF(C14=\"\",\"\",ASC(C14))","v":""},"","","","","",null,null,null,null,null,null,null,null,null,null,null,null,null,null,null,"農薬台帳",5,{"$f":"IF(ほ場台帳!D$3=\"\",\"\",ほ場台帳!D$3)","v":"ほ場名"},{"$f":"IF(作業台帳!D$4=\"\",\"\",作業台帳!D$4)","v":"機械名"},{"$f":"IF(機械台帳!D$4=\"\",\"\",機械台帳!D$4)","v":""},{"$f":"IF(農薬台帳!D$4=\"\",\"\",農薬台帳!D$4)","v":"区分"},{"$f":"IF(肥料台帳!D$4=\"\",\"\",肥料台帳!D$4)","v":"区分"}]
[null,"列記号４",null,null,null,null,null,null,null,{"$f":"IF(C15=\"\",\"\",ASC(C15))","v":""},"","","","","","リンク元列名とリンク先列名の選択リスト",null,null,null,null,null,null,null,null,null,null,null,null,null,null,"肥料台帳",6,{"$f":"IF(ほ場台帳!E$3=\"\",\"\",ほ場台帳!E$3)","v":"地番"},{"$f":"IF(作業台帳!E$4=\"\",\"\",作業台帳!E$4)","v":""},{"$f":"IF(機械台帳!E$4=\"\",\"\",機械台帳!E$4)","v":""},{"$f":"IF(農薬台帳!E$4=\"\",\"\",農薬台帳!E$4)","v":""},{"$f":"IF(肥料台帳!E$4=\"\",\"\",肥料台帳!E$4)","v":""}]
["１セル複数データの処理",null,null,null,null,null,null,null,null,null,null,null,null,null,null,"項目1","項目2","項目3","項目4","項目5","項目6",null,"項目1","項目2","項目3","項目4","項目5","項目6",null,null,null,7,{"$f":"IF(ほ場台帳!F$3=\"\",\"\",ほ場台帳!F$3)","v":"面積"},{"$f":"IF(作業台帳!F$4=\"\",\"\",作業台帳!F$4)","v":""},{"$f":"IF(機械台帳!F$4=\"\",\"\",機械台帳!F$4)","v":""},{"$f":"IF(農薬台帳!F$4=\"\",\"\",農薬台帳!F$4)","v":""},{"$f":"IF(肥料台帳!F$4=\"\",\"\",肥料台帳!F$4)","v":""}]
["リンク\n（列記号１）","台帳名",null,null,null,null,null,null,null,null,null,null,null,null,null,null,null,null,null,null,null,null,null,null,null,null,null,null,null,null,null,8,{"$f":"IF(ほ場台帳!G$3=\"\",\"\",ほ場台帳!G$3)","v":"品種"},{"$f":"IF(作業台帳!G$4=\"\",\"\",作業台帳!G$4)","v":""},{"$f":"IF(機械台帳!G$4=\"\",\"\",機械台帳!G$4)","v":""},{"$f":"IF(農薬台帳!G$4=\"\",\"\",農薬台帳!G$4)","v":""},{"$f":"IF(肥料台帳!G$4=\"\",\"\",肥料台帳!G$4)","v":""}]
[null,"リンク元列名",null,null,null,null,null,null,null,null,null,null,null,null,null,{"$f":"IF(C$17=\"\",\"\",HLOOKUP(C$17,$AG$10:$AL$30,$AF11,0))","v":""},{"$f":"IF(D$17=\"\",\"\",HLOOKUP(D$17,$AG$10:$AL$30,$AF11,0))","v":""},{"$f":"IF(E$17=\"\",\"\",HLOOKUP(E$17,$AG$10:$AL$30,$AF11,0))","v":""},{"$f":"IF(F$17=\"\",\"\",HLOOKUP(F$17,$AG$10:$AL$30,$AF11,0))","v":""},{"$f":"IF(G$17=\"\",\"\",HLOOKUP(G$17,$AG$10:$AL$30,$AF11,0))","v":""},{"$f":"IF(H$17=\"\",\"\",HLOOKUP(H$17,$AG$10:$AL$30,$AF11,0))","v":""},null,{"$f":"IF(C$20=\"\",\"\",HLOOKUP(C$20,$AG$10:$AL$30,$AF11,0))","v":""},{"$f":"IF(D$20=\"\",\"\",HLOOKUP(D$20,$AG$10:$AL$30,$AF11,0))","v":""},{"$f":"IF(E$20=\"\",\"\",HLOOKUP(E$20,$AG$10:$AL$30,$AF11,0))","v":""},{"$f":"IF(F$20=\"\",\"\",HLOOKUP(F$20,$AG$10:$AL$30,$AF11,0))","v":""},{"$f":"IF(G$20=\"\",\"\",HLOOKUP(G$20,$AG$10:$AL$30,$AF11,0))","v":""},{"$f":"IF(H$20=\"\",\"\",HLOOKUP(H$20,$AG$10:$AL$30,$AF11,0))","v":""},null,null,null,9,{"$f":"IF(ほ場台帳!H$3=\"\",\"\",ほ場台帳!H$3)","v":""},{"$f":"IF(作業台帳!H$4=\"\",\"\",作業台帳!H$4)","v":""},{"$f":"IF(機械台帳!H$4=\"\",\"\",機械台帳!H$4)","v":""},{"$f":"IF(農薬台帳!H$4=\"\",\"\",農薬台帳!H$4)","v":""},{"$f":"IF(肥料台帳!H$4=\"\",\"\",肥料台帳!H$4)","v":""}]
[null,"リンク先列名",null,null,null,null,null,null,null,null,null,null,null,null,null,"","","","","","",null,"","","","","","",null,null,null,10,{"$f":"IF(ほ場台帳!I$3=\"\",\"\",ほ場台帳!I$3)","v":""},{"$f":"IF(作業台帳!I$4=\"\",\"\",作業台帳!I$4)","v":""},{"$f":"IF(機械台帳!I$4=\"\",\"\",機械台帳!I$4)","v":""},{"$f":"IF(農薬台帳!I$4=\"\",\"\",農薬台帳!I$4)","v":""},{"$f":"IF(肥料台帳!I$4=\"\",\"\",肥料台帳!I$4)","v":""}]
["リンク\n（列記号２）","台帳名",null,null,null,null,null,null,null,null,null,null,null,null,null,"","","","","","",null,"","","","","","",null,null,null,11,{"$f":"IF(ほ場台帳!J$3=\"\",\"\",ほ場台帳!J$3)","v":""},{"$f":"IF(作業台帳!J$4=\"\",\"\",作業台帳!J$4)","v":""},{"$f":"IF(機械台帳!J$4=\"\",\"\",機械台帳!J$4)","v":""},{"$f":"IF(農薬台帳!J$4=\"\",\"\",農薬台帳!J$4)","v":""},{"$f":"IF(肥料台帳!J$4=\"\",\"\",肥料台帳!J$4)","v":""}]
[null,"リンク元列名",null,null,null,null,null,null,null,null,null,null,null,null,null,"","","","","","",null,"","","","","","",null,null,null,12,{"$f":"IF(ほ場台帳!K$3=\"\",\"\",ほ場台帳!K$3)","v":""},{"$f":"IF(作業台帳!K$4=\"\",\"\",作業台帳!K$4)","v":""},{"$f":"IF(機械台帳!K$4=\"\",\"\",機械台帳!K$4)","v":""},{"$f":"IF(農薬台帳!K$4=\"\",\"\",農薬台帳!K$4)","v":""},{"$f":"IF(肥料台帳!K$4=\"\",\"\",肥料台帳!K$4)","v":""}]
[null,"リンク先列名",null,null,null,null,null,null,null,null,null,null,null,null,null,"","","","","","",null,"","","","","","",null,null,null,13,{"$f":"IF(ほ場台帳!L$3=\"\",\"\",ほ場台帳!L$3)","v":""},{"$f":"IF(作業台帳!L$4=\"\",\"\",作業台帳!L$4)","v":""},{"$f":"IF(機械台帳!L$4=\"\",\"\",機械台帳!L$4)","v":""},{"$f":"IF(農薬台帳!L$4=\"\",\"\",農薬台帳!L$4)","v":""},{"$f":"IF(肥料台帳!L$4=\"\",\"\",肥料台帳!L$4)","v":""}]
[null,null,null,null,null,null,null,null,null,null,null,null,null,null,null,"","","","","","",null,"","","","","","",null,null,null,14,{"$f":"IF(ほ場台帳!M$3=\"\",\"\",ほ場台帳!M$3)","v":""},{"$f":"IF(作業台帳!M$4=\"\",\"\",作業台帳!M$4)","v":""},{"$f":"IF(機械台帳!M$4=\"\",\"\",機械台帳!M$4)","v":""},{"$f":"IF(農薬台帳!M$4=\"\",\"\",農薬台帳!M$4)","v":""},{"$f":"IF(肥料台帳!M$4=\"\",\"\",肥料台帳!M$4)","v":""}]
[null,null,null,null,null,null,null,null,null,null,null,null,null,null,null,"","","","","","",null,"","","","","","",null,null,null,15,{"$f":"IF(ほ場台帳!N$3=\"\",\"\",ほ場台帳!N$3)","v":""},{"$f":"IF(作業台帳!N$4=\"\",\"\",作業台帳!N$4)","v":""},{"$f":"IF(機械台帳!N$4=\"\",\"\",機械台帳!N$4)","v":""},{"$f":"IF(農薬台帳!N$4=\"\",\"\",農薬台帳!N$4)","v":""},{"$f":"IF(肥料台帳!N$4=\"\",\"\",肥料台帳!N$4)","v":""}]
[null,"列番号１",{"$f":"IF(J12=\"\",0,列番号(J12))","v":0},{"$f":"IF(K12=\"\",0,列番号(K12))","v":0},{"$f":"IF(L12=\"\",0,列番号(L12))","v":0},{"$f":"IF(M12=\"\",0,列番号(M12))","v":0},{"$f":"IF(N12=\"\",0,列番号(N12))","v":0},{"$f":"IF(O12=\"\",0,列番号(O12))","v":0},null,null,null,null,null,null,null,"","","","","","",null,"","","","","","",null,null,null,16,{"$f":"IF(ほ場台帳!O$3=\"\",\"\",ほ場台帳!O$3)","v":""},{"$f":"IF(作業台帳!O$4=\"\",\"\",作業台帳!O$4)","v":""},{"$f":"IF(機械台帳!O$4=\"\",\"\",機械台帳!O$4)","v":""},{"$f":"IF(農薬台帳!O$4=\"\",\"\",農薬台帳!O$4)","v":""},{"$f":"IF(肥料台帳!O$4=\"\",\"\",肥料台帳!O$4)","v":""}]
[null,"列番号２",{"$f":"IF(J13=\"\",0,列番号(J13))","v":0},{"$f":"IF(K13=\"\",0,列番号(K13))","v":0},{"$f":"IF(L13=\"\",0,列番号(L13))","v":0},{"$f":"IF(M13=\"\",0,列番号(M13))","v":0},{"$f":"IF(N13=\"\",0,列番号(N13))","v":0},{"$f":"IF(O13=\"\",0,列番号(O13))","v":0},null,null,null,null,null,null,null,"","","","","","",null,"","","","","","",null,null,null,17,{"$f":"IF(ほ場台帳!P$3=\"\",\"\",ほ場台帳!P$3)","v":""},{"$f":"IF(作業台帳!P$4=\"\",\"\",作業台帳!P$4)","v":""},{"$f":"IF(機械台帳!P$4=\"\",\"\",機械台帳!P$4)","v":""},{"$f":"IF(農薬台帳!P$4=\"\",\"\",農薬台帳!P$4)","v":""},{"$f":"IF(肥料台帳!P$4=\"\",\"\",肥料台帳!P$4)","v":""}]
[null,"列番号３",{"$f":"IF(J14=\"\",0,列番号(J14))","v":0},{"$f":"IF(K14=\"\",0,列番号(K14))","v":0},{"$f":"IF(L14=\"\",0,列番号(L14))","v":0},{"$f":"IF(M14=\"\",0,列番号(M14))","v":0},{"$f":"IF(N14=\"\",0,列番号(N14))","v":0},{"$f":"IF(O14=\"\",0,列番号(O14))","v":0},null,null,null,null,null,null,null,"","","","","","",null,"","","","","","",null,null,null,18,{"$f":"IF(ほ場台帳!Q$3=\"\",\"\",ほ場台帳!Q$3)","v":""},{"$f":"IF(作業台帳!Q$4=\"\",\"\",作業台帳!Q$4)","v":""},{"$f":"IF(機械台帳!Q$4=\"\",\"\",機械台帳!Q$4)","v":""},{"$f":"IF(農薬台帳!Q$4=\"\",\"\",農薬台帳!Q$4)","v":""},{"$f":"IF(肥料台帳!Q$4=\"\",\"\",肥料台帳!Q$4)","v":""}]
[null,"列番号４",{"$f":"IF(J15=\"\",0,列番号(J15))","v":0},{"$f":"IF(K15=\"\",0,列番号(K15))","v":0},{"$f":"IF(L15=\"\",0,列番号(L15))","v":0},{"$f":"IF(M15=\"\",0,列番号(M15))","v":0},{"$f":"IF(N15=\"\",0,列番号(N15))","v":0},{"$f":"IF(O15=\"\",0,列番号(O15))","v":0},null,null,null,null,null,null,null,"","","","","","",null,"","","","","","",null,null,null,19,{"$f":"IF(ほ場台帳!R$3=\"\",\"\",ほ場台帳!R$3)","v":""},{"$f":"IF(作業台帳!R$4=\"\",\"\",作業台帳!R$4)","v":""},{"$f":"IF(機械台帳!R$4=\"\",\"\",機械台帳!R$4)","v":""},{"$f":"IF(農薬台帳!R$4=\"\",\"\",農薬台帳!R$4)","v":""},{"$f":"IF(肥料台帳!R$4=\"\",\"\",肥料台帳!R$4)","v":""}]
[null,"リンク元列記号",{"$f":"列記号(C18,P18:P41)","v":""},"","","","","",null,null,null,null,null,null,null,"","","","","","",null,"","","","","","",null,null,null,20,{"$f":"IF(ほ場台帳!S$3=\"\",\"\",ほ場台帳!S$3)","v":""},{"$f":"IF(作業台帳!S$4=\"\",\"\",作業台帳!S$4)","v":""},{"$f":"IF(機械台帳!S$4=\"\",\"\",機械台帳!S$4)","v":""},{"$f":"IF(農薬台帳!S$4=\"\",\"\",農薬台帳!S$4)","v":""},{"$f":"IF(肥料台帳!S$4=\"\",\"\",肥料台帳!S$4)","v":""}]
[null,"リンク元列番号",{"$f":"IF(C29=\"\",0,列番号(C29))","v":0},{"$f":"IF(D29=\"\",0,列番号(D29))","v":0},{"$f":"IF(E29=\"\",0,列番号(E29))","v":0},{"$f":"IF(F29=\"\",0,列番号(F29))","v":0},{"$f":"IF(G29=\"\",0,列番号(G29))","v":0},{"$f":"IF(H29=\"\",0,列番号(H29))","v":0},null,null,null,null,null,null,null,"","","","","","",null,"","","","","","",null,null,null,21,{"$f":"IF(ほ場台帳!T$3=\"\",\"\",ほ場台帳!T$3)","v":""},{"$f":"IF(作業台帳!T$4=\"\",\"\",作業台帳!T$4)","v":""},{"$f":"IF(機械台帳!T$4=\"\",\"\",機械台帳!T$4)","v":""},{"$f":"IF(農薬台帳!T$4=\"\",\"\",農薬台帳!T$4)","v":""},{"$f":"IF(肥料台帳!T$4=\"\",\"\",肥料台帳!T$4)","v":""}]
[null,"リンク先列記号",{"$f":"列記号(C19,P18:P41)","v":""},"","","","","",null,null,null,null,null,null,null,"","","","","","",null,"","","","","",""]
[null,"リンク先列番号",{"$f":"IF(C31=\"\",0,列番号(C31))","v":0},{"$f":"IF(D31=\"\",0,列番号(D31))","v":0},{"$f":"IF(E31=\"\",0,列番号(E31))","v":0},{"$f":"IF(F31=\"\",0,列番号(F31))","v":0},{"$f":"IF(G31=\"\",0,列番号(G31))","v":0},{"$f":"IF(H31=\"\",0,列番号(H31))","v":0},null,null,null,null,null,null,null,"","","","","","",null,"","","","","",""]
[null,"リンク元列記号",{"$f":"列記号(C21,W18:W41)","v":""},"","","","","",null,null,null,null,null,null,null,"","","","","","",null,"","","","","",""]
[null,"リンク元列番号",{"$f":"IF(C33=\"\",0,列番号(C33))","v":0},{"$f":"IF(D33=\"\",0,列番号(D33))","v":0},{"$f":"IF(E33=\"\",0,列番号(E33))","v":0},{"$f":"IF(F33=\"\",0,列番号(F33))","v":0},{"$f":"IF(G33=\"\",0,列番号(G33))","v":0},{"$f":"IF(H33=\"\",0,列番号(H33))","v":0},null,null,null,null,null,null,null,"","","","","","",null,"","","","","",""]
[null,"リンク先列記号",{"$f":"列記号(C22,W18:W41)","v":""},"","","","","",null,null,null,null,null,null,null,"","","","","","",null,"","","","","",""]
[null,"リンク先列番号",{"$f":"IF(C35=\"\",0,列番号(C35))","v":0},{"$f":"IF(D35=\"\",0,列番号(D35))","v":0},{"$f":"IF(E35=\"\",0,列番号(E35))","v":0},{"$f":"IF(F35=\"\",0,列番号(F35))","v":0},{"$f":"IF(G35=\"\",0,列番号(G35))","v":0},{"$f":"IF(H35=\"\",0,列番号(H35))","v":0},null,null,null,null,null,null,null,"","","","","","",null,"","","","","",""]
[null,null,null,null,null,null,null,null,null,null,null,null,null,null,null,"","","","","","",null,"","","","","",""]
[]
[]
["工程区分２"]
["工程区分名"]
["データシート"]
["対象作業"]
[]
["生産履歴票に記載する項目名",null,"項目1","項目2","項目3","項目4","項目5","項目6"]
[]
["データシート\nの列記号","列記号１",null,null,null,null,null,null,null,{"$f":"IF(C47=\"\",\"\",ASC(C47))","v":""},"","","","",""]
[null,"列記号２",null,null,null,null,null,null,null,{"$f":"IF(C48=\"\",\"\",ASC(C48))","v":""},"","","","",""]
[null,"列記号３",null,null,null,null,null,null,null,{"$f":"IF(C49=\"\",\"\",ASC(C49))","v":""},"","","","",""]
[null,"列記号４",null,null,null,null,null,null,null,{"$f":"IF(C50=\"\",\"\",ASC(C50))","v":""},"","","","","","リンク元列名とリンク先列名の選択リスト"]
["１セル複数データの処理",null,null,null,null,null,null,null,null,null,null,null,null,null,null,"項目1","項目2","項目3","項目4","項目5","項目6",null,"項目1","項目2","項目3","項目4","項目5","項目6"]
["リンク\n（列記号１）","台帳名"]
[null,"リンク元列名",null,null,null,null,null,null,null,null,null,null,null,null,null,{"$f":"IF(C$52=\"\",\"\",HLOOKUP(C$52,$AG$10:$AL$30,$AF11,0))","v":""},{"$f":"IF(D$52=\"\",\"\",HLOOKUP(D$52,$AG$10:$AL$30,$AF11,0))","v":""},"","","","",null,{"$f":"IF(C$55=\"\",\"\",HLOOKUP(C$55,$AG$10:$AL$30,$AF11,0))","v":""},{"$f":"IF(D$55=\"\",\"\",HLOOKUP(D$55,$AG$10:$AL$30,$AF11,0))","v":""},"","","",""]
[null,"リンク先列名",null,null,null,null,null,null,null,null,null,null,null,null,null,"",{"$f":"IF(D$52=\"\",\"\",HLOOKUP(D$52,$AG$10:$AL$30,$AF12,0))","v":""},{"$f":"IF(E$52=\"\",\"\",HLOOKUP(E$52,$AG$10:$AL$30,$AF12,0))","v":""},{"$f":"IF(F$52=\"\",\"\",HLOOKUP(F$52,$AG$10:$AL$30,$AF12,0))","v":""},{"$f":"IF(G$52=\"\",\"\",HLOOKUP(G$52,$AG$10:$AL$30,$AF12,0))","v":""},{"$f":"IF(H$52=\"\",\"\",HLOOKUP(H$52,$AG$10:$AL$30,$AF12,0))","v":""},null,"",{"$f":"IF(D$55=\"\",\"\",HLOOKUP(D$55,$AG$10:$AL$30,$AF12,0))","v":""},{"$f":"IF(E$55=\"\",\"\",HLOOKUP(E$55,$AG$10:$AL$30,$AF12,0))","v":""},{"$f":"IF(F$55=\"\",\"\",HLOOKUP(F$55,$AG$10:$AL$30,$AF12,0))","v":""},{"$f":"IF(G$55=\"\",\"\",HLOOKUP(G$55,$AG$10:$AL$30,$AF12,0))","v":""},{"$f":"IF(H$55=\"\",\"\",HLOOKUP(H$55,$AG$10:$AL$30,$AF12,0))","v":""}]
["リンク\n（列記号２）","台帳名",null,null,null,null,null,null,null,null,null,null,null,null,null,"","","","","","",null,"","","","","",""]
[null,"リンク元列名",null,null,null,null,null,null,null,null,null,null,null,null,null,"","","","","","",null,"","","","","",""]
[null,"リンク先列名",null,null,null,null,null,null,null,null,null,null,null,null,null,"","","","","","",null,"","","","","",""]
[null,null,null,null,null,null,null,null,null,null,null,null,null,null,null,"","","","","","",null,"","","","","",""]
[null,null,null,null,null,null,null,null,null,null,null,null,null,null,null,"","","","","","",null,"","","","","",""]
[null,"列番号１",{"$f":"IF(J47=\"\",0,列番号(J47))","v":0},{"$f":"IF(K47=\"\",0,列番号(K47))","v":0},{"$f":"IF(L47=\"\",0,列番号(L47))","v":0},{"$f":"IF(M47=\"\",0,列番号(M47))","v":0},{"$f":"IF(N47=\"\",0,列番号(N47))","v":0},{"$f":"IF(O47=\"\",0,列番号(O47))","v":0},null,null,null,null,null,null,null,"","","","","","",null,"","","","","",""]
[null,"列番号２",{"$f":"IF(J48=\"\",0,列番号(J48))","v":0},{"$f":"IF(K48=\"\",0,列番号(K48))","v":0},{"$f":"IF(L48=\"\",0,列番号(L48))","v":0},{"$f":"IF(M48=\"\",0,列番号(M48))","v":0},{"$f":"IF(N48=\"\",0,列番号(N48))","v":0},{"$f":"IF(O48=\"\",0,列番号(O48))","v":0},null,null,null,null,null,null,null,"","","","","","",null,"","","","","",""]
[null,"列番号３",{"$f":"IF(J49=\"\",0,列番号(J49))","v":0},{"$f":"IF(K49=\"\",0,列番号(K49))","v":0},{"$f":"IF(L49=\"\",0,列番号(L49))","v":0},{"$f":"IF(M49=\"\",0,列番号(M49))","v":0},{"$f":"IF(N49=\"\",0,列番号(N49))","v":0},{"$f":"IF(O49=\"\",0,列番号(O49))","v":0},null,null,null,null,null,null,null,"","","","","","",null,"","","","","",""]
[null,"列番号４",{"$f":"IF(J50=\"\",0,列番号(J50))","v":0},{"$f":"IF(K50=\"\",0,列番号(K50))","v":0},{"$f":"IF(L50=\"\",0,列番号(L50))","v":0},{"$f":"IF(M50=\"\",0,列番号(M50))","v":0},{"$f":"IF(N50=\"\",0,列番号(N50))","v":0},{"$f":"IF(O50=\"\",0,列番号(O50))","v":0},null,null,null,null,null,null,null,"","","","","","",null,"","","","","",""]
[null,"リンク元列記号",{"$f":"列記号(C53,P53:P78)","v":""},"","","","","",null,null,null,null,null,null,null,"","","","","","",null,"","","","","",""]
[null,"リンク元列番号",{"$f":"IF(C64=\"\",0,列番号(C64))","v":0},{"$f":"IF(D64=\"\",0,列番号(D64))","v":0},{"$f":"IF(E64=\"\",0,列番号(E64))","v":0},{"$f":"IF(F64=\"\",0,列番号(F64))","v":0},{"$f":"IF(G64=\"\",0,列番号(G64))","v":0},{"$f":"IF(H64=\"\",0,列番号(H64))","v":0},null,null,null,null,null,null,null,"","","","","","",null,"","","","","",""]
[null,"リンク先列記号",{"$f":"列記号(C54,P53:P78)","v":""},"","","","","",null,null,null,null,null,null,null,"","","","","","",null,"","","","","",""]
[null,"リンク先列番号",{"$f":"IF(C66=\"\",0,列番号(C66))","v":0},{"$f":"IF(D66=\"\",0,列番号(D66))","v":0},{"$f":"IF(E66=\"\",0,列番号(E66))","v":0},{"$f":"IF(F66=\"\",0,列番号(F66))","v":0},{"$f":"IF(G66=\"\",0,列番号(G66))","v":0},{"$f":"IF(H66=\"\",0,列番号(H66))","v":0},null,null,null,null,null,null,null,"","","","","","",null,"","","","","",""]
[null,"リンク元列記号",{"$f":"列記号(C56,W53:W78)","v":""},"","","","","",null,null,null,null,null,null,null,"","","","","","",null,"","","","","",""]
[null,"リンク元列番号",{"$f":"IF(C68=\"\",0,列番号(C68))","v":0},{"$f":"IF(D68=\"\",0,列番号(D68))","v":0},{"$f":"IF(E68=\"\",0,列番号(E68))","v":0},{"$f":"IF(F68=\"\",0,列番号(F68))","v":0},{"$f":"IF(G68=\"\",0,列番号(G68))","v":0},{"$f":"IF(H68=\"\",0,列番号(H68))","v":0},null,null,null,null,null,null,null,"","","","","","",null,"","","","","",""]
[null,"リンク先列記号",{"$f":"列記号(C57,W53:W78)","v":""},"","","","","",null,null,null,null,null,null,null,"","","","","","",null,"","","","","",""]
[null,"リンク先列番号",{"$f":"IF(C70=\"\",0,列番号(C70))","v":0},{"$f":"IF(D70=\"\",0,列番号(D70))","v":0},{"$f":"IF(E70=\"\",0,列番号(E70))","v":0},{"$f":"IF(F70=\"\",0,列番号(F70))","v":0},{"$f":"IF(G70=\"\",0,列番号(G70))","v":0},{"$f":"IF(H70=\"\",0,列番号(H70))","v":0},null,null,null,null,null,null,null,"","","","","","",null,"","","","","",""]
[null,null,null,null,null,null,null,null,null,null,null,null,null,null,null,"","","","","","",null,"","","","","",""]
[]
[]
["工程区分３"]
["工程区分名"]
["データシート"]
["対象作業"]
[]
["生産履歴票に記載する項目名",null,"項目1","項目2","項目3","項目4","項目5","項目6"]
[]
["データシート\nの列記号","列記号１",null,null,null,null,null,null,null,{"$f":"IF(C82=\"\",\"\",ASC(C82))","v":""},"","","","",""]
[null,"列記号２",null,null,null,null,null,null,null,{"$f":"IF(C83=\"\",\"\",ASC(C83))","v":""},"","","","",""]
[null,"列記号３",null,null,null,null,null,null,null,{"$f":"IF(C84=\"\",\"\",ASC(C84))","v":""},"","","","",""]
[null,"列記号４",null,null,null,null,null,null,null,{"$f":"IF(C85=\"\",\"\",ASC(C85))","v":""},"","","","","","リンク元列名とリンク先列名の選択リスト"]
["１セル複数データの処理",null,null,null,null,null,null,null,null,null,null,null,null,null,null,"項目1","項目2","項目3","項目4","項目5","項目6",null,"項目1","項目2","項目3","項目4","項目5","項目6"]
["リンク\n（列記号１）","台帳名"]
[null,"リンク元列名",null,null,null,null,null,null,null,null,null,null,null,null,null,{"$f":"IF(C$87=\"\",\"\",HLOOKUP(C$87,$AG$10:$AL$21,$AF11,0))","v":""},"","","","","",null,{"$f":"IF(C$90=\"\",\"\",HLOOKUP(C$90,$AG$10:$AL$21,$AF11,0))","v":""},"","","","",""]
[null,"リンク先列名",null,null,null,null,null,null,null,null,null,null,null,null,null,{"$f":"IF(C$87=\"\",\"\",HLOOKUP(C$87,$AG$10:$AL$21,$AF12,0))","v":""},"","","","","",null,{"$f":"IF(C$90=\"\",\"\",HLOOKUP(C$90,$AG$10:$AL$21,$AF12,0))","v":""},"","","","",""]
["リンク\n（列記号２）","台帳名",null,null,null,null,null,null,null,null,null,null,null,null,null,{"$f":"IF(C$87=\"\",\"\",HLOOKUP(C$87,$AG$10:$AL$21,$AF13,0))","v":""},"","","","","",null,{"$f":"IF(C$90=\"\",\"\",HLOOKUP(C$90,$AG$10:$AL$21,$AF13,0))","v":""},"","","","",""]
[null,"リンク元列名",null,null,null,null,null,null,null,null,null,null,null,null,null,{"$f":"IF(C$87=\"\",\"\",HLOOKUP(C$87,$AG$10:$AL$21,$AF14,0))","v":""},"","","","","",null,{"$f":"IF(C$90=\"\",\"\",HLOOKUP(C$90,$AG$10:$AL$21,$AF14,0))","v":""},"","","","",""]
[null,"リンク先列名",null,null,null,null,null,null,null,null,null,null,null,null,null,{"$f":"IF(C$87=\"\",\"\",HLOOKUP(C$87,$AG$10:$AL$21,$AF15,0))","v":""},"","","","","",null,{"$f":"IF(C$90=\"\",\"\",HLOOKUP(C$90,$AG$10:$AL$21,$AF15,0))","v":""},"","","","",""]
[null,null,null,null,null,null,null,null,null,null,null,null,null,null,null,{"$f":"IF(C$87=\"\",\"\",HLOOKUP(C$87,$AG$10:$AL$21,$AF16,0))","v":""},"","","","","",null,{"$f":"IF(C$90=\"\",\"\",HLOOKUP(C$90,$AG$10:$AL$21,$AF16,0))","v":""},"","","","",""]
[null,null,null,null,null,null,null,null,null,null,null,null,null,null,null,{"$f":"IF(C$87=\"\",\"\",HLOOKUP(C$87,$AG$10:$AL$21,$AF17,0))","v":""},"","","","","",null,{"$f":"IF(C$90=\"\",\"\",HLOOKUP(C$90,$AG$10:$AL$21,$AF17,0))","v":""},"","","","",""]
[null,"列番号１",{"$f":"IF(J82=\"\",0,列番号(J82))","v":0},{"$f":"IF(K82=\"\",0,列番号(K82))","v":0},{"$f":"IF(L82=\"\",0,列番号(L82))","v":0},{"$f":"IF(M82=\"\",0,列番号(M82))","v":0},{"$f":"IF(N82=\"\",0,列番号(N82))","v":0},{"$f":"IF(O82=\"\",0,列番号(O82))","v":0},null,null,null,null,null,null,null,{"$f":"IF(C$87=\"\",\"\",HLOOKUP(C$87,$AG$10:$AL$21,$AF18,0))","v":""},"","","","","",null,{"$f":"IF(C$90=\"\",\"\",HLOOKUP(C$90,$AG$10:$AL$21,$AF18,0))","v":""},"","","","",""]
[null,"列番号２",{"$f":"IF(J83=\"\",0,列番号(J83))","v":0},{"$f":"IF(K83=\"\",0,列番号(K83))","v":0},{"$f":"IF(L83=\"\",0,列番号(L83))","v":0},{"$f":"IF(M83=\"\",0,列番号(M83))","v":0},{"$f":"IF(N83=\"\",0,列番号(N83))","v":0},{"$f":"IF(O83=\"\",0,列番号(O83))","v":0},null,null,null,null,null,null,null,{"$f":"IF(C$87=\"\",\"\",HLOOKUP(C$87,$AG$10:$AL$21,$AF19,0))","v":""},"","","","","",null,{"$f":"IF(C$90=\"\",\"\",HLOOKUP(C$90,$AG$10:$AL$21,$AF19,0))","v":""},"","","","",""]
[null,"列番号３",{"$f":"IF(J84=\"\",0,列番号(J84))","v":0},{"$f":"IF(K84=\"\",0,列番号(K84))","v":0},{"$f":"IF(L84=\"\",0,列番号(L84))","v":0},{"$f":"IF(M84=\"\",0,列番号(M84))","v":0},{"$f":"IF(N84=\"\",0,列番号(N84))","v":0},{"$f":"IF(O84=\"\",0,列番号(O84))","v":0},null,null,null,null,null,null,null,{"$f":"IF(C$87=\"\",\"\",HLOOKUP(C$87,$AG$10:$AL$21,$AF20,0))","v":""},"","","","","",null,{"$f":"IF(C$90=\"\",\"\",HLOOKUP(C$90,$AG$10:$AL$21,$AF20,0))","v":""},"","","","",""]
[null,"列番号４",{"$f":"IF(J85=\"\",0,列番号(J85))","v":0},{"$f":"IF(K85=\"\",0,列番号(K85))","v":0},{"$f":"IF(L85=\"\",0,列番号(L85))","v":0},{"$f":"IF(M85=\"\",0,列番号(M85))","v":0},{"$f":"IF(N85=\"\",0,列番号(N85))","v":0},{"$f":"IF(O85=\"\",0,列番号(O85))","v":0},null,null,null,null,null,null,null,{"$f":"IF(C$87=\"\",\"\",HLOOKUP(C$87,$AG$10:$AL$21,$AF21,0))","v":""},"","","","","",null,{"$f":"IF(C$90=\"\",\"\",HLOOKUP(C$90,$AG$10:$AL$21,$AF21,0))","v":""},"","","","",""]
[null,"リンク元列記号",{"$f":"列記号(C88,P88:P111)","v":""},"","","","","",null,null,null,null,null,null,null,{"$f":"IF(C$87=\"\",\"\",HLOOKUP(C$87,$AG$10:$AL$21,$AF22,0))","v":""},"","","","","",null,{"$f":"IF(C$90=\"\",\"\",HLOOKUP(C$90,$AG$10:$AL$21,$AF22,0))","v":""},"","","","",""]
[null,"リンク元列番号",{"$f":"IF(C99=\"\",0,列番号(C99))","v":0},{"$f":"IF(D99=\"\",0,列番号(D99))","v":0},{"$f":"IF(E99=\"\",0,列番号(E99))","v":0},{"$f":"IF(F99=\"\",0,列番号(F99))","v":0},{"$f":"IF(G99=\"\",0,列番号(G99))","v":0},{"$f":"IF(H99=\"\",0,列番号(H99))","v":0},null,null,null,null,null,null,null,{"$f":"IF(C$87=\"\",\"\",HLOOKUP(C$87,$AG$10:$AL$21,$AF23,0))","v":""},"","","","","",null,{"$f":"IF(C$90=\"\",\"\",HLOOKUP(C$90,$AG$10:$AL$21,$AF23,0))","v":""},"","","","",""]
[null,"リンク先列記号",{"$f":"列記号(C89,P88:P111)","v":""},"","","","","",null,null,null,null,null,null,null,{"$f":"IF(C$87=\"\",\"\",HLOOKUP(C$87,$AG$10:$AL$21,$AF24,0))","v":""},"","","","","",null,{"$f":"IF(C$90=\"\",\"\",HLOOKUP(C$90,$AG$10:$AL$21,$AF24,0))","v":""},"","","","",""]
[null,"リンク先列番号",{"$f":"IF(C101=\"\",0,列番号(C101))","v":0},{"$f":"IF(D101=\"\",0,列番号(D101))","v":0},{"$f":"IF(E101=\"\",0,列番号(E101))","v":0},{"$f":"IF(F101=\"\",0,列番号(F101))","v":0},{"$f":"IF(G101=\"\",0,列番号(G101))","v":0},{"$f":"IF(H101=\"\",0,列番号(H101))","v":0},null,null,null,null,null,null,null,{"$f":"IF(C$87=\"\",\"\",HLOOKUP(C$87,$AG$10:$AL$21,$AF25,0))","v":""},"","","","","",null,{"$f":"IF(C$90=\"\",\"\",HLOOKUP(C$90,$AG$10:$AL$21,$AF25,0))","v":""},"","","","",""]
[null,"リンク元列記号",{"$f":"列記号(C91,W88:W111)","v":""},"","","","","",null,null,null,null,null,null,null,{"$f":"IF(C$87=\"\",\"\",HLOOKUP(C$87,$AG$10:$AL$21,$AF26,0))","v":""},"","","","","",null,{"$f":"IF(C$90=\"\",\"\",HLOOKUP(C$90,$AG$10:$AL$21,$AF26,0))","v":""},"","","","",""]
[null,"リンク元列番号",{"$f":"IF(C103=\"\",0,列番号(C103))","v":0},{"$f":"IF(D103=\"\",0,列番号(D103))","v":0},{"$f":"IF(E103=\"\",0,列番号(E103))","v":0},{"$f":"IF(F103=\"\",0,列番号(F103))","v":0},{"$f":"IF(G103=\"\",0,列番号(G103))","v":0},{"$f":"IF(H103=\"\",0,列番号(H103))","v":0},null,null,null,null,null,null,null,{"$f":"IF(C$87=\"\",\"\",HLOOKUP(C$87,$AG$10:$AL$21,$AF27,0))","v":""},"","","","","",null,{"$f":"IF(C$90=\"\",\"\",HLOOKUP(C$90,$AG$10:$AL$21,$AF27,0))","v":""},"","","","",""]
[null,"リンク先列記号",{"$f":"列記号(C92,W88:W111)","v":""},"","","","","",null,null,null,null,null,null,null,{"$f":"IF(C$87=\"\",\"\",HLOOKUP(C$87,$AG$10:$AL$21,$AF28,0))","v":""},"","","","","",null,{"$f":"IF(C$90=\"\",\"\",HLOOKUP(C$90,$AG$10:$AL$21,$AF28,0))","v":""},"","","","",""]
[null,"リンク先列番号",{"$f":"IF(C105=\"\",0,列番号(C105))","v":0},{"$f":"IF(D105=\"\",0,列番号(D105))","v":0},{"$f":"IF(E105=\"\",0,列番号(E105))","v":0},{"$f":"IF(F105=\"\",0,列番号(F105))","v":0},{"$f":"IF(G105=\"\",0,列番号(G105))","v":0},{"$f":"IF(H105=\"\",0,列番号(H105))","v":0},null,null,null,null,null,null,null,{"$f":"IF(C$87=\"\",\"\",HLOOKUP(C$87,$AG$10:$AL$21,$AF29,0))","v":""},"","","","","",null,{"$f":"IF(C$90=\"\",\"\",HLOOKUP(C$90,$AG$10:$AL$21,$AF29,0))","v":""},"","","","",""]
[null,null,null,null,null,null,null,null,null,null,null,null,null,null,null,{"$f":"IF(C$87=\"\",\"\",HLOOKUP(C$87,$AG$10:$AL$21,$AF30,0))","v":""},"","","","","",null,{"$f":"IF(C$90=\"\",\"\",HLOOKUP(C$90,$AG$10:$AL$21,$AF30,0))","v":""},"","","","",""]
[]
[]
["工程区分４"]
["工程区分名"]
["データシート"]
["対象作業"]
[]
["生産履歴票に記載する項目名",null,"項目1","項目2","項目3","項目4","項目5","項目6"]
[]
["データシート\nの列記号","列記号１",null,null,null,null,null,null,null,{"$f":"IF(C117=\"\",\"\",ASC(C117))","v":""},"","","","",""]
[null,"列記号２",null,null,null,null,null,null,null,{"$f":"IF(C118=\"\",\"\",ASC(C118))","v":""},"","","","",""]
[null,"列記号３",null,null,null,null,null,null,null,{"$f":"IF(C119=\"\",\"\",ASC(C119))","v":""},"","","","",""]
[null,"列記号４",null,null,null,null,null,null,null,{"$f":"IF(C120=\"\",\"\",ASC(C120))","v":""},"","","","","","リンク元列名とリンク先列名の選択リスト"]
["１セル複数データの処理",null,null,null,null,null,null,null,null,null,null,null,null,null,null,"項目1","項目2","項目3","項目4","項目5","項目6",null,"項目1","項目2","項目3","項目4","項目5","項目6"]
["リンク\n（列記号１）","台帳名"]
[null,"リンク元列名",null,null,null,null,null,null,null,null,null,null,null,null,null,{"$f":"IF(C$122=\"\",\"\",HLOOKUP(C$122,$AG$10:$AL$30,$AF11,0))","v":""},{"$f":"IF(D$122=\"\",\"\",HLOOKUP(D$122,$AG$10:$AL$30,$AF11,0))","v":""},"","","","",null,{"$f":"IF(C$125=\"\",\"\",HLOOKUP(C$125,$AG$10:$AL$30,$AF11,0))","v":""},{"$f":"IF(D$125=\"\",\"\",HLOOKUP(D$125,$AG$10:$AL$30,$AF11,0))","v":""},"","","",""]
[null,"リンク先列名",null,null,null,null,null,null,null,null,null,null,null,null,null,"",{"$f":"IF(D$122=\"\",\"\",HLOOKUP(D$122,$AG$10:$AL$30,$AF12,0))","v":""},{"$f":"IF(E$122=\"\",\"\",HLOOKUP(E$122,$AG$10:$AL$30,$AF12,0))","v":""},{"$f":"IF(F$122=\"\",\"\",HLOOKUP(F$122,$AG$10:$AL$30,$AF12,0))","v":""},{"$f":"IF(G$122=\"\",\"\",HLOOKUP(G$122,$AG$10:$AL$30,$AF12,0))","v":""},{"$f":"IF(H$122=\"\",\"\",HLOOKUP(H$122,$AG$10:$AL$30,$AF12,0))","v":""},null,"",{"$f":"IF(D$125=\"\",\"\",HLOOKUP(D$125,$AG$10:$AL$30,$AF12,0))","v":""},{"$f":"IF(E$125=\"\",\"\",HLOOKUP(E$125,$AG$10:$AL$30,$AF12,0))","v":""},{"$f":"IF(F$125=\"\",\"\",HLOOKUP(F$125,$AG$10:$AL$30,$AF12,0))","v":""},{"$f":"IF(G$125=\"\",\"\",HLOOKUP(G$125,$AG$10:$AL$30,$AF12,0))","v":""},{"$f":"IF(H$125=\"\",\"\",HLOOKUP(H$125,$AG$10:$AL$30,$AF12,0))","v":""}]
["リンク\n（列記号２）","台帳名",null,null,null,null,null,null,null,null,null,null,null,null,null,"","","","","","",null,"","","","","",""]
[null,"リンク元列名",null,null,null,null,null,null,null,null,null,null,null,null,null,"","","","","","",null,"","","","","",""]
[null,"リンク先列名",null,null,null,null,null,null,null,null,null,null,null,null,null,"","","","","","",null,"","","","","",""]
[null,null,null,null,null,null,null,null,null,null,null,null,null,null,null,"","","","","","",null,"","","","","",""]
[null,null,null,null,null,null,null,null,null,null,null,null,null,null,null,"","","","","","",null,"","","","","",""]
[null,"列番号１",{"$f":"IF(J117=\"\",0,列番号(J117))","v":0},{"$f":"IF(K117=\"\",0,列番号(K117))","v":0},{"$f":"IF(L117=\"\",0,列番号(L117))","v":0},{"$f":"IF(M117=\"\",0,列番号(M117))","v":0},{"$f":"IF(N117=\"\",0,列番号(N117))","v":0},{"$f":"IF(O117=\"\",0,列番号(O117))","v":0},null,null,null,null,null,null,null,"","","","","","",null,"","","","","",""]
[null,"列番号２",{"$f":"IF(J118=\"\",0,列番号(J118))","v":0},{"$f":"IF(K118=\"\",0,列番号(K118))","v":0},{"$f":"IF(L118=\"\",0,列番号(L118))","v":0},{"$f":"IF(M118=\"\",0,列番号(M118))","v":0},{"$f":"IF(N118=\"\",0,列番号(N118))","v":0},{"$f":"IF(O118=\"\",0,列番号(O118))","v":0},null,null,null,null,null,null,null,"","","","","","",null,"","","","","",""]
[null,"列番号３",{"$f":"IF(J119=\"\",0,列番号(J119))","v":0},{"$f":"IF(K119=\"\",0,列番号(K119))","v":0},{"$f":"IF(L119=\"\",0,列番号(L119))","v":0},{"$f":"IF(M119=\"\",0,列番号(M119))","v":0},{"$f":"IF(N119=\"\",0,列番号(N119))","v":0},{"$f":"IF(O119=\"\",0,列番号(O119))","v":0},null,null,null,null,null,null,null,"","","","","","",null,"","","","","",""]
[null,"列番号４",{"$f":"IF(J120=\"\",0,列番号(J120))","v":0},{"$f":"IF(K120=\"\",0,列番号(K120))","v":0},{"$f":"IF(L120=\"\",0,列番号(L120))","v":0},{"$f":"IF(M120=\"\",0,列番号(M120))","v":0},{"$f":"IF(N120=\"\",0,列番号(N120))","v":0},{"$f":"IF(O120=\"\",0,列番号(O120))","v":0},null,null,null,null,null,null,null,"","","","","","",null,"","","","","",""]
[null,"リンク元列記号",{"$f":"列記号(C123,P123:P146)","v":""},"","","","","",null,null,null,null,null,null,null,"","","","","","",null,"","","","","",""]
[null,"リンク元列番号",{"$f":"IF(C134=\"\",0,列番号(C134))","v":0},{"$f":"IF(D134=\"\",0,列番号(D134))","v":0},{"$f":"IF(E134=\"\",0,列番号(E134))","v":0},{"$f":"IF(F134=\"\",0,列番号(F134))","v":0},{"$f":"IF(G134=\"\",0,列番号(G134))","v":0},{"$f":"IF(H134=\"\",0,列番号(H134))","v":0},null,null,null,null,null,null,null,"","","","","","",null,"","","","","",""]
[null,"リンク先列記号",{"$f":"列記号(C124,P123:P146)","v":""},"","","","","",null,null,null,null,null,null,null,"","","","","","",null,"","","","","",""]
[null,"リンク先列番号",{"$f":"IF(C136=\"\",0,列番号(C136))","v":0},{"$f":"IF(D136=\"\",0,列番号(D136))","v":0},{"$f":"IF(E136=\"\",0,列番号(E136))","v":0},{"$f":"IF(F136=\"\",0,列番号(F136))","v":0},{"$f":"IF(G136=\"\",0,列番号(G136))","v":0},{"$f":"IF(H136=\"\",0,列番号(H136))","v":0},null,null,null,null,null,null,null,"","","","","","",null,"","","","","",""]
[null,"リンク元列記号",{"$f":"列記号(C126,W123:W146)","v":""},"","","","","",null,null,null,null,null,null,null,"","","","","","",null,"","","","","",""]
[null,"リンク元列番号",{"$f":"IF(C138=\"\",0,列番号(C138))","v":0},{"$f":"IF(D138=\"\",0,列番号(D138))","v":0},{"$f":"IF(E138=\"\",0,列番号(E138))","v":0},{"$f":"IF(F138=\"\",0,列番号(F138))","v":0},{"$f":"IF(G138=\"\",0,列番号(G138))","v":0},{"$f":"IF(H138=\"\",0,列番号(H138))","v":0},null,null,null,null,null,null,null,"","","","","","",null,"","","","","",""]
[null,"リンク先列記号",{"$f":"列記号(C127,W123:W146)","v":""},"","","","","",null,null,null,null,null,null,null,"","","","","","",null,"","","","","",""]
[null,"リンク先列番号",{"$f":"IF(C140=\"\",0,列番号(C140))","v":0},{"$f":"IF(D140=\"\",0,列番号(D140))","v":0},{"$f":"IF(E140=\"\",0,列番号(E140))","v":0},{"$f":"IF(F140=\"\",0,列番号(F140))","v":0},{"$f":"IF(G140=\"\",0,列番号(G140))","v":0},{"$f":"IF(H140=\"\",0,列番号(H140))","v":0},null,null,null,null,null,null,null,"","","","","","",null,"","","","","",""]
[null,null,null,null,null,null,null,null,null,null,null,null,null,null,null,"","","","","","",null,"","","","","",""]
[]
[]
["工程区分５"]
["工程区分名"]
["データシート"]
["対象作業"]
[]
["生産履歴票に記載する項目名",null,"項目1","項目2","項目3","項目4","項目5","項目6"]
[]
["データシート\nの列記号","列記号１",null,null,null,null,null,null,null,{"$f":"IF(C152=\"\",\"\",ASC(C152))","v":""},"","","","",""]
[null,"列記号２",null,null,null,null,null,null,null,{"$f":"IF(C153=\"\",\"\",ASC(C153))","v":""},"","","","",""]
[null,"列記号３",null,null,null,null,null,null,null,{"$f":"IF(C154=\"\",\"\",ASC(C154))","v":""},"","","","",""]
[null,"列記号４",null,null,null,null,null,null,null,{"$f":"IF(C155=\"\",\"\",ASC(C155))","v":""},"","","","","","リンク元列名とリンク先列名の選択リスト"]
["１セル複数データの処理",null,null,null,null,null,null,null,null,null,null,null,null,null,null,"項目1","項目2","項目3","項目4","項目5","項目6",null,"項目1","項目2","項目3","項目4","項目5","項目6"]
["リンク\n（列記号１）","台帳名"]
[null,"リンク元列名",null,null,null,null,null,null,null,null,null,null,null,null,null,{"$f":"IF(C$157=\"\",\"\",HLOOKUP(C$157,$AG$10:$AL$30,$AF11,0))","v":""},{"$f":"IF(D$157=\"\",\"\",HLOOKUP(D$157,$AG$10:$AL$30,$AF11,0))","v":""},"","","","",null,{"$f":"IF(C$160=\"\",\"\",HLOOKUP(C$160,$AG$10:$AL$30,$AF11,0))","v":""},{"$f":"IF(D$160=\"\",\"\",HLOOKUP(D$160,$AG$10:$AL$30,$AF11,0))","v":""},"","","",""]
[null,"リンク先列名",null,null,null,null,null,null,null,null,null,null,null,null,null,"",{"$f":"IF(D$157=\"\",\"\",HLOOKUP(D$157,$AG$10:$AL$30,$AF12,0))","v":""},{"$f":"IF(E$157=\"\",\"\",HLOOKUP(E$157,$AG$10:$AL$30,$AF12,0))","v":""},{"$f":"IF(F$157=\"\",\"\",HLOOKUP(F$157,$AG$10:$AL$30,$AF12,0))","v":""},{"$f":"IF(G$157=\"\",\"\",HLOOKUP(G$157,$AG$10:$AL$30,$AF12,0))","v":""},{"$f":"IF(H$157=\"\",\"\",HLOOKUP(H$157,$AG$10:$AL$30,$AF12,0))","v":""},null,"",{"$f":"IF(D$160=\"\",\"\",HLOOKUP(D$160,$AG$10:$AL$30,$AF12,0))","v":""},{"$f":"IF(E$160=\"\",\"\",HLOOKUP(E$160,$AG$10:$AL$30,$AF12,0))","v":""},{"$f":"IF(F$160=\"\",\"\",HLOOKUP(F$160,$AG$10:$AL$30,$AF12,0))","v":""},{"$f":"IF(G$160=\"\",\"\",HLOOKUP(G$160,$AG$10:$AL$30,$AF12,0))","v":""},{"$f":"IF(H$160=\"\",\"\",HLOOKUP(H$160,$AG$10:$AL$30,$AF12,0))","v":""}]
["リンク\n（列記号２）","台帳名",null,null,null,null,null,null,null,null,null,null,null,null,null,"","","","","","",null,"","","","","",""]
[null,"リンク元列名",null,null,null,null,null,null,null,null,null,null,null,null,null,"","","","","","",null,"","","","","",""]
[null,"リンク先列名",null,null,null,null,null,null,null,null,null,null,null,null,null,"","","","","","",null,"","","","","",""]
[null,null,null,null,null,null,null,null,null,null,null,null,null,null,null,"","","","","","",null,"","","","","",""]
[null,null,null,null,null,null,null,null,null,null,null,null,null,null,null,"","","","","","",null,"","","","","",""]
[null,"列番号１",{"$f":"IF(J152=\"\",0,列番号(J152))","v":0},{"$f":"IF(K152=\"\",0,列番号(K152))","v":0},{"$f":"IF(L152=\"\",0,列番号(L152))","v":0},{"$f":"IF(M152=\"\",0,列番号(M152))","v":0},{"$f":"IF(N152=\"\",0,列番号(N152))","v":0},{"$f":"IF(O152=\"\",0,列番号(O152))","v":0},null,null,null,null,null,null,null,"","","","","","",null,"","","","","",""]
[null,"列番号２",{"$f":"IF(J153=\"\",0,列番号(J153))","v":0},{"$f":"IF(K153=\"\",0,列番号(K153))","v":0},{"$f":"IF(L153=\"\",0,列番号(L153))","v":0},{"$f":"IF(M153=\"\",0,列番号(M153))","v":0},{"$f":"IF(N153=\"\",0,列番号(N153))","v":0},{"$f":"IF(O153=\"\",0,列番号(O153))","v":0},null,null,null,null,null,null,null,"","","","","","",null,"","","","","",""]
[null,"列番号３",{"$f":"IF(J154=\"\",0,列番号(J154))","v":0},{"$f":"IF(K154=\"\",0,列番号(K154))","v":0},{"$f":"IF(L154=\"\",0,列番号(L154))","v":0},{"$f":"IF(M154=\"\",0,列番号(M154))","v":0},{"$f":"IF(N154=\"\",0,列番号(N154))","v":0},{"$f":"IF(O154=\"\",0,列番号(O154))","v":0},null,null,null,null,null,null,null,"","","","","","",null,"","","","","",""]
[null,"列番号４",{"$f":"IF(J155=\"\",0,列番号(J155))","v":0},{"$f":"IF(K155=\"\",0,列番号(K155))","v":0},{"$f":"IF(L155=\"\",0,列番号(L155))","v":0},{"$f":"IF(M155=\"\",0,列番号(M155))","v":0},{"$f":"IF(N155=\"\",0,列番号(N155))","v":0},{"$f":"IF(O155=\"\",0,列番号(O155))","v":0},null,null,null,null,null,null,null,"","","","","","",null,"","","","","",""]
[null,"リンク元列記号",{"$f":"列記号(C158,P158:P170)","v":""},"","","","","",null,null,null,null,null,null,null,"","","","","","",null,"","","","","",""]
[null,"リンク元列番号",{"$f":"IF(C169=\"\",0,列番号(C169))","v":0},{"$f":"IF(D169=\"\",0,列番号(D169))","v":0},{"$f":"IF(E169=\"\",0,列番号(E169))","v":0},{"$f":"IF(F169=\"\",0,列番号(F169))","v":0},{"$f":"IF(G169=\"\",0,列番号(G169))","v":0},{"$f":"IF(H169=\"\",0,列番号(H169))","v":0},null,null,null,null,null,null,null,"","","","","","",null,"","","","","",""]
[null,"リンク先列記号",{"$f":"列記号(C159,P158:P170)","v":""},"","","","","",null,null,null,null,null,null,null,"","","","","","",null,"","","","","",""]
[null,"リンク先列番号",{"$f":"IF(C171=\"\",0,列番号(C171))","v":0},{"$f":"IF(D171=\"\",0,列番号(D171))","v":0},{"$f":"IF(E171=\"\",0,列番号(E171))","v":0},{"$f":"IF(F171=\"\",0,列番号(F171))","v":0},{"$f":"IF(G171=\"\",0,列番号(G171))","v":0},{"$f":"IF(H171=\"\",0,列番号(H171))","v":0},null,null,null,null,null,null,null,"","","","","","",null,"","","","","",""]
[null,"リンク元列記号",{"$f":"列記号(C161,W158:W170)","v":""},"","","","","",null,null,null,null,null,null,null,"","","","","","",null,"","","","","",""]
[null,"リンク元列番号",{"$f":"IF(C173=\"\",0,列番号(C173))","v":0},{"$f":"IF(D173=\"\",0,列番号(D173))","v":0},{"$f":"IF(E173=\"\",0,列番号(E173))","v":0},{"$f":"IF(F173=\"\",0,列番号(F173))","v":0},{"$f":"IF(G173=\"\",0,列番号(G173))","v":0},{"$f":"IF(H173=\"\",0,列番号(H173))","v":0},null,null,null,null,null,null,null,"","","","","","",null,"","","","","",""]
[null,"リンク先列記号",{"$f":"列記号(C162,W158:W170)","v":""},"","","","","",null,null,null,null,null,null,null,"","","","","","",null,"","","","","",""]
[null,"リンク先列番号",{"$f":"IF(C175=\"\",0,列番号(C175))","v":0},{"$f":"IF(D175=\"\",0,列番号(D175))","v":0},{"$f":"IF(E175=\"\",0,列番号(E175))","v":0},{"$f":"IF(F175=\"\",0,列番号(F175))","v":0},{"$f":"IF(G175=\"\",0,列番号(G175))","v":0},{"$f":"IF(H175=\"\",0,列番号(H175))","v":0},null,null,null,null,null,null,null,"","","","","","",null,"","","","","",""]
[null,null,null,null,null,null,null,null,null,null,null,null,null,null,null,"","","","","","",null,"","","","","",""]

{"sheet":"台帳作成","index":4,"n_rows":1087,"n_cols":38,"rows_kept":1087,"cut":false,"hidden":false,"merged":[[3,0,3,1],[3,7,3,8],[0,0,1,4],[0,7,1,11],[2,14,2,16],[1,14,1,16]]}
["「データ１」シートからの台帳作成",null,null,null,null,null,null,"「データ２」シートからの台帳作成"]
[null,null,null,null,null,null,null,null,null,null,null,null,null,null,"１セルに複数データが入力されている場合"]
[null,null,null,null,null,null,null,null,null,null,null,null,null,null,"区切り文字として使用"]
["データ開始行",null,null,null,null,null,null,"データ開始行",null,null,null,null,null,null,null,"改行","する"]
[null,null,"重要：この行からデータを読み込みます。",null,null,null,null,null,null,"重要：この行からデータを読み込みます。",null,null,null,null,",","半角ｶﾝﾏ","する"]
[null,null,null,null,null,null,null,null,null,null,null,null,null,null,"，","全角ｶﾝﾏ","する"]
[null,null,null,null,null,null,null,null,null,null,null,null,null,null,"､","半角読点","する"]
["品種台帳作成",null,null,null,null,null,null,"品種作業台帳作成",null,null,null,null,null,null,"、","全角読点","する"]
[null,"品種名",null,null,null,null,null,null,"品種名",null,null,null,null,null,"/","半角ｽﾗｯｼｭ","する"]
["列記号",null,null,null,null,null,null,"列記号",null,null,null,null,null,null,"／","全角ｽﾗｯｼｭ","する",{"$f":"IF(B10=\"\",\"\",ASC(B10))","v":""},null,null,null,null,null,null,{"$f":"IF(I10=\"\",\"\",ASC(I10))","v":""}]
["列番号",{"$f":"IF(R10=\"\",0,列番号(R10))","v":0},null,null,null,null,null,"列番号",{"$f":"IF(Y10=\"\",0,列番号(Y10))","v":0}]
[]
[]
["ほ場台帳作成",null,null,null,null,null,null,"ほ場台帳作成"]
[null,"ほ場番号","ほ場名","地番","面積","品種",null,null,"ほ場番号","ほ場名","地番","面積","品種"]
["列記号",null,null,null,null,null,null,"列記号",null,null,null,null,null,null,null,null,null,{"$f":"IF(B16=\"\",\"\",ASC(B16))","v":""},{"$f":"IF(C16=\"\",\"\",ASC(C16))","v":""},"","","",null,null,{"$f":"IF(I16=\"\",\"\",ASC(I16))","v":""},{"$f":"IF(J16=\"\",\"\",ASC(J16))","v":""},{"$f":"IF(K16=\"\",\"\",ASC(K16))","v":""},"",""]
["列番号",{"$f":"IF(R16=\"\",0,列番号(R16))","v":0},{"$f":"IF(S16=\"\",0,列番号(S16))","v":0},{"$f":"IF(T16=\"\",0,列番号(T16))","v":0},{"$f":"IF(U16=\"\",0,列番号(U16))","v":0},{"$f":"IF(V16=\"\",0,列番号(V16))","v":0},null,"列番号",{"$f":"IF(Y16=\"\",0,列番号(Y16))","v":0},{"$f":"IF(Z16=\"\",0,列番号(Z16))","v":0},{"$f":"IF(AA16=\"\",0,列番号(AA16))","v":0},{"$f":"IF(AB16=\"\",0,列番号(AB16))","v":0},{"$f":"IF(AC16=\"\",0,列番号(AC16))","v":0}]
[null,"重要：この項目で、ほ場を識別します。",null,null,null,null,null,null,"重要：この項目で、ほ場を識別します。"]
[]
["作業台帳作成",null,null,null,null,null,null,"作業台帳作成"]
[null,"作業名",null,null,null,null,null,null,"作業名"]
["列記号",null,null,null,null,null,null,"列記号",null,null,null,null,null,null,null,null,null,{"$f":"IF(B22=\"\",\"\",ASC(B22))","v":""},null,null,null,null,null,null,{"$f":"IF(I22=\"\",\"\",ASC(I22))","v":""}]
["列番号",{"$f":"IF(R22=\"\",0,列番号(R22))","v":0},null,null,null,null,null,"列番号",{"$f":"IF(Y22=\"\",0,列番号(Y22))","v":0}]
[]
[]
["機械台帳作成",null,null,null,null,null,null,"機械台帳作成"]
[null,"機械名",null,null,null,null,null,null,"機械名"]
["列記号",null,null,null,null,null,null,"列記号",null,null,null,null,null,null,null,null,null,{"$f":"IF(B28=\"\",\"\",ASC(B28))","v":""},null,null,null,null,null,null,{"$f":"IF(I28=\"\",\"\",ASC(I28))","v":""}]
["列番号",{"$f":"IF(R28=\"\",0,列番号(R28))","v":0},null,null,null,null,null,"列番号",{"$f":"IF(Y28=\"\",0,列番号(Y28))","v":0}]
[]
[]
["農薬台帳",null,null,null,null,null,null,"農薬台帳"]
[null,"農薬名1","農薬名2","農薬名3","農薬名4",null,null,null,"農薬名1","農薬名2","農薬名3","農薬名4"]
["列記号",null,null,null,null,null,null,"列記号",null,null,null,null,null,null,null,null,null,{"$f":"IF(B34=\"\",\"\",ASC(B34))","v":""},"","","",null,null,null,{"$f":"IF(I34=\"\",\"\",ASC(I34))","v":""},{"$f":"IF(J34=\"\",\"\",ASC(J34))","v":""},{"$f":"IF(K34=\"\",\"\",ASC(K34))","v":""},{"$f":"IF(L34=\"\",\"\",ASC(L34))","v":""}]
["列番号",{"$f":"IF(R34=\"\",0,列番号(R34))","v":0},{"$f":"IF(S34=\"\",0,列番号(S34))","v":0},{"$f":"IF(T34=\"\",0,列番号(T34))","v":0},{"$f":"IF(U34=\"\",0,列番号(U34))","v":0},null,null,"列番号",{"$f":"IF(Y34=\"\",0,列番号(Y34))","v":0},{"$f":"IF(Z34=\"\",0,列番号(Z34))","v":0},{"$f":"IF(AA34=\"\",0,列番号(AA34))","v":0},{"$f":"IF(AB34=\"\",0,列番号(AB34))","v":0}]
[]
[]
["肥料台帳",null,null,null,null,null,null,"肥料台帳"]
[null,"肥料名1","肥料名2","肥料名3","肥料名4",null,null,null,"肥料名1","肥料名2","肥料名3","肥料名4"]
["列記号",null,null,null,null,null,null,"列記号",null,null,null,null,null,null,null,null,null,{"$f":"IF(B40=\"\",\"\",ASC(B40))","v":""},"","","",null,null,null,{"$f":"IF(I40=\"\",\"\",ASC(I40))","v":""},{"$f":"IF(J40=\"\",\"\",ASC(J40))","v":""},{"$f":"IF(K40=\"\",\"\",ASC(K40))","v":""},{"$f":"IF(L40=\"\",\"\",ASC(L40))","v":""}]
["列番号",{"$f":"IF(R40=\"\",0,列番号(R40))","v":0},{"$f":"IF(S40=\"\",0,列番号(S40))","v":0},{"$f":"IF(T40=\"\",0,列番号(T40))","v":0},{"$f":"IF(U40=\"\",0,列番号(U40))","v":0},null,null,"列番号",{"$f":"IF(Y40=\"\",0,列番号(Y40))","v":0},{"$f":"IF(Z40=\"\",0,列番号(Z40))","v":0},{"$f":"IF(AA40=\"\",0,列番号(AA40))","v":0},{"$f":"IF(AB40=\"\",0,列番号(AB40))","v":0}]
[]
[]
[]
[]
[]
[]
[]
[]
[]
[]
[]
[]
[]
[]
[]
[]
[]
[]
[]
[]
[]
[]
[]
[]
[]
[]
[]
[]
[]
[]
[]
[]
[]
[]
[]
[]
[]
[]
[]
[]
[]
[]
[]
[]
[]
[]
[]
[]
[]
[]
[]
[]
[]
[]
[]
[]
[]
[]
[]
[]
[]
[]
[]
[]
[]
[]
[]
[]
[]
[]
[]
[]
[]
[]
[]
[]
[]
[]
[]
[]
[]
[]
[]
[]
[]
[]
[]
[]
[]
[]
[]
[]
[]
[]
[]
[]
[]
[]
[]
[]
[]
[]
[]
[]
[]
[]
[]
[]
[]
[]
[]
[]
[]
[]
[]
[]
[]
[]
[]
[]
[]
[]
[]
[]
[]
[]
[]
[]
[]
[]
[]
[]
[]
[]
[]
[]
[]
[]
[]
[]
[]
[]
[]
[]
[]
[]
[]
[]
[]
[]
[]
[]
[]
[]
[]
[]
[]
[]
[]
[]
[]
[]
[]
[]
[]
[]
[]
[]
[]
[]
[]
[]
[]
[]
[]
[]
[]
[]
[]
[]
[]
[]
[]
[]
[]
[]
[]
[]
[]
[]
[]
[]
[]
[]
[]
[]
[]
[]
[]
[]
[]
[]
[]
[]
[]
[]
[]
[]
[]
[]
[]
[]
[]
[]
[]
[]
[]
[]
[]
[]
[]
[]
[]
[]
[]
[]
[]
[]
[]
[]
[]
[]
[]
[]
[]
[]
[]
[]
[]
[]
[]
[]
[]
[]
[]
[]
[]
[]
[]
[]
[]
[]
[]
[]
[]
[]
[]
[]
[]
[]
[]
[]
[]
[]
[]
[]
[]
[]
[]
[]
[]
[]
[]
[]
[]
[]
[]
[]
[]
[]
[]
[]
[]
[]
[]
[]
[]
[]
[]
[]
[]
[]
[]
[]
[]
[]
[]
[]
[]
[]
[]
[]
[]
[]
[]
[]
[]
[]
[]
[]
[]
[]
[]
[]
[]
[]
[]
[]
[]
[]
[]
[]
[]
[]
[]
[]
[]
[]
[]
[]
[]
[]
[]
[]
[]
[]
[]
[]
[]
[]
[]
[]
[]
[]
[]
[]
[]
[]
[]
[]
[]
[]
[]
[]
[]
[]
[]
[]
[]
[]
[]
[]
[]
[]
[]
[]
[]
[]
[]
[]
[]
[]
[]
[]
[]
[]
[]
[]
[]
[]
[]
[]
[]
[]
[]
[]
[]
[]
[]
[]
[]
[]
[]
[]
[]
[]
[]
[]
[]
[]
[]
[]
[]
[]
[]
[]
[]
[]
[]
[]
[]
[]
[]
[]
[]
[]
[]
[]
[]
[]
[]
[]
[]
[]
[]
[]
[]
[]
[]
[]
[]
[]
[]
[]
[]
[]
[]
[]
[]
[]
[]
[]
[]
[]
[]
[]
[]
[]
[]
[]
[]
[]
[]
[]
[]
[]
[]
[]
[]
[]
[]
[]
[]
[]
[]
[]
[]
[]
[]
[]
[]
[]
[]
[]
[]
[]
[]
[]
[]
[]
[]
[]
[]
[]
[]
[]
[]
[]
[]
[]
[]
[]
[]
[]
[]
[]
[]
[]
[]
[]
[]
[]
[]
[]
[]
[]
[]
[]
[]
[]
[]
[]
[]
[]
[]
[]
[]
[]
[]
[]
[]
[]
[]
[]
[]
[]
[]
[]
[]
[]
[]
[]
[]
[]
[]
[]
[]
[]
[]
[]
[]
[]
[]
[]
[]
[]
[]
[]
[]
[]
[]
[]
[]
[]
[]
[]
[]
[]
[]
[]
[]
[]
[]
[]
[]
[]
[]
[]
[]
[]
[]
[]
[]
[]
[]
[]
[]
[]
[]
[]
[]
[]
[]
[]
[]
[]
[]
[]
[]
[]
[]
[]
[]
[]
[]
[]
[]
[]
[]
[]
[]
[]
[]
[]
[]
[]
[]
[]
[]
[]
[]
[]
[]
[]
[]
[]
[]
[]
[]
[]
[]
[]
[]
[]
[]
[]
[]
[]
[]
[]
[]
[]
[]
[]
[]
[]
[]
[]
[]
[]
[]
[]
[]
[]
[]
[]
[]
[]
[]
[]
[]
[]
[]
[]
[]
[]
[]
[]
[]
[]
[]
[]
[]
[]
[]
[]
[]
[]
[]
[]
[]
[]
[]
[]
[]
[]
[]
[]
[]
[]
[]
[]
[]
[]
[]
[]
[]
[]
[]
[]
[]
[]
[]
[]
[]
[]
[]
[]
[]
[]
[]
[]
[]
[]
[]
[]
[]
[]
[]
[]
[]
[]
[]
[]
[]
[]
[]
[]
[]
[]
[]
[]
[]
[]
[]
[]
[]
[]
[]
[]
[]
[]
[]
[]
[]
[]
[]
[]
[]
[]
[]
[]
[]
[]
[]
[]
[]
[]
[]
[]
[]
[]
[]
[]
[]
[]
[]
[]
[]
[]
[]
[]
[]
[]
[]
[]
[]
[]
[]
[]
[]
[]
[]
[]
[]
[]
[]
[]
[]
[]
[]
[]
[]
[]
[]
[]
[]
[]
[]
[]
[]
[]
[]
[]
[]
[]
[]
[]
[]
[]
[]
[]
[]
[]
[]
[]
[]
[]
[]
[]
[]
[]
[]
[]
[]
[]
[]
[]
[]
[]
[]
[]
[]
[]
[]
[]
[]
[]
[]
[]
[]
[]
[]
[]
[]
[]
[]
[]
[]
[]
[]
[]
[]
[]
[]
[]
[]
[]
[]
[]
[]
[]
[]
[]
[]
[]
[]
[]
[]
[]
[]
[]
[]
[]
[]
[]
[]
[]
[]
[]
[]
[]
[]
[]
[]
[]
[]
[]
[]
[]
[]
[]
[]
[]
[]
[]
[]
[]
[]
[]
[]
[]
[]
[]
[]
[]
[]
[]
[]
[]
[]
[]
[]
[]
[]
[]
[]
[]
[]
[]
[]
[]
[]
[]
[]
[]
[]
[]
[]
[]
[]
[]
[]
[]
[]
[]
[]
[]
[]
[]
[]
[]
[]
[]
[]
[]
[]
[]
[]
[]
[]
[]
[]
[]
[]
[]
[]
[]
[]
[]
[]
[]
[]
[]
[]
[]
[]
[]
[]
[]
[]
[]
[]
[null,null,null,null,null,null,null,null,null,null,null,null,null,null,null,null,null,null,null,null,null,null,null,null,null,null,null,null,null,null,null,null,null,null,null,null,null,0]
[null,null,null,null,null,null,null,null,null,null,null,null,null,null,null,null,null,null,null,null,null,null,null,null,null,null,null,null,null,null,null,null,null,null,null,null,null,0]
[null,null,null,null,null,null,null,null,null,null,null,null,null,null,null,null,null,null,null,null,null,null,null,null,null,null,null,null,null,null,null,null,null,null,null,null,null,27]
[null,null,null,null,null,null,null,null,null,null,null,null,null,null,null,null,null,null,null,null,null,null,null,null,null,null,null,null,null,null,null,null,null,null,null,null,null,31]
[null,null,null,null,null,null,null,null,null,null,null,null,null,null,null,null,null,null,null,null,null,null,null,null,null,null,null,null,null,null,null,null,null,null,null,null,null,32]
[null,null,null,null,null,null,null,null,null,null,null,null,null,null,null,null,null,null,null,null,null,null,null,null,null,null,null,null,null,null,null,null,null,null,null,null,null,33]
[null,null,null,null,null,null,null,null,null,null,null,null,null,null,null,null,null,null,null,null,null,null,null,null,null,null,null,null,null,null,null,null,null,null,null,null,null,34]
[null,null,null,null,null,null,null,null,null,null,null,null,null,null,null,null,null,null,null,null,null,null,null,null,null,null,null,null,null,null,null,null,null,null,null,null,null,41]
[null,null,null,null,null,null,null,null,null,null,null,null,null,null,null,null,null,null,null,null,null,null,null,null,null,null,null,null,null,null,null,null,null,null,null,null,null,43]
[null,null,null,null,null,null,null,null,null,null,null,null,null,null,null,null,null,null,null,null,null,null,null,null,null,null,null,null,null,null,null,null,null,null,null,null,null,44]
[null,null,null,null,null,null,null,null,null,null,null,null,null,null,null,null,null,null,null,null,null,null,null,null,null,null,null,null,null,null,null,null,null,null,null,null,null,45]
[null,null,null,null,null,null,null,null,null,null,null,null,null,null,null,null,null,null,null,null,null,null,null,null,null,null,null,null,null,null,null,null,null,null,null,null,null,56]
[null,null,null,null,null,null,null,null,null,null,null,null,null,null,null,null,null,null,null,null,null,null,null,null,null,null,null,null,null,null,null,null,null,null,null,null,null,57]
[null,null,null,null,null,null,null,null,null,null,null,null,null,null,null,null,null,null,null,null,null,null,null,null,null,null,null,null,null,null,null,null,null,null,null,null,null,60]
[null,null,null,null,null,null,null,null,null,null,null,null,null,null,null,null,null,null,null,null,null,null,null,null,null,null,null,null,null,null,null,null,null,null,null,null,null,61]
[null,null,null,null,null,null,null,null,null,null,null,null,null,null,null,null,null,null,null,null,null,null,null,null,null,null,null,null,null,null,null,null,null,null,null,null,null,67]
[null,null,null,null,null,null,null,null,null,null,null,null,null,null,null,null,null,null,null,null,null,null,null,null,null,null,null,null,null,null,null,null,null,null,null,null,null,74]
[null,null,null,null,null,null,null,null,null,null,null,null,null,null,null,null,null,null,null,null,null,null,null,null,null,null,null,null,null,null,null,null,null,null,null,null,null,85]
[null,null,null,null,null,null,null,null,null,null,null,null,null,null,null,null,null,null,null,null,null,null,null,null,null,null,null,null,null,null,null,null,null,null,null,null,null,91]
[null,null,null,null,null,null,null,null,null,null,null,null,null,null,null,null,null,null,null,null,null,null,null,null,null,null,null,null,null,null,null,null,null,null,null,null,null,97]
[null,null,null,null,null,null,null,null,null,null,null,null,null,null,null,null,null,null,null,null,null,null,null,null,null,null,null,null,null,null,null,null,null,null,null,null,null,104]
[null,null,null,null,null,null,null,null,null,null,null,null,null,null,null,null,null,null,null,null,null,null,null,null,null,null,null,null,null,null,null,null,null,null,null,null,null,105]
[null,null,null,null,null,null,null,null,null,null,null,null,null,null,null,null,null,null,null,null,null,null,null,null,null,null,null,null,null,null,null,null,null,null,null,null,null,106]
[null,null,null,null,null,null,null,null,null,null,null,null,null,null,null,null,null,null,null,null,null,null,null,null,null,null,null,null,null,null,null,null,null,null,null,null,null,114]
[null,null,null,null,null,null,null,null,null,null,null,null,null,null,null,null,null,null,null,null,null,null,null,null,null,null,null,null,null,null,null,null,null,null,null,null,null,121]
[null,null,null,null,null,null,null,null,null,null,null,null,null,null,null,null,null,null,null,null,null,null,null,null,null,null,null,null,null,null,null,null,null,null,null,null,null,122]
[null,null,null,null,null,null,null,null,null,null,null,null,null,null,null,null,null,null,null,null,null,null,null,null,null,null,null,null,null,null,null,null,null,null,null,null,null,123]
[null,null,null,null,null,null,null,null,null,null,null,null,null,null,null,null,null,null,null,null,null,null,null,null,null,null,null,null,null,null,null,null,null,null,null,null,null,124]
[null,null,null,null,null,null,null,null,null,null,null,null,null,null,null,null,null,null,null,null,null,null,null,null,null,null,null,null,null,null,null,null,null,null,null,null,null,127]
[null,null,null,null,null,null,null,null,null,null,null,null,null,null,null,null,null,null,null,null,null,null,null,null,null,null,null,null,null,null,null,null,null,null,null,null,null,128]
[null,null,null,null,null,null,null,null,null,null,null,null,null,null,null,null,null,null,null,null,null,null,null,null,null,null,null,null,null,null,null,null,null,null,null,null,null,129]
[null,null,null,null,null,null,null,null,null,null,null,null,null,null,null,null,null,null,null,null,null,null,null,null,null,null,null,null,null,null,null,null,null,null,null,null,null,133]
[null,null,null,null,null,null,null,null,null,null,null,null,null,null,null,null,null,null,null,null,null,null,null,null,null,null,null,null,null,null,null,null,null,null,null,null,null,139]
[null,null,null,null,null,null,null,null,null,null,null,null,null,null,null,null,null,null,null,null,null,null,null,null,null,null,null,null,null,null,null,null,null,null,null,null,null,140]
[null,null,null,null,null,null,null,null,null,null,null,null,null,null,null,null,null,null,null,null,null,null,null,null,null,null,null,null,null,null,null,null,null,null,null,null,null,141]
[null,null,null,null,null,null,null,null,null,null,null,null,null,null,null,null,null,null,null,null,null,null,null,null,null,null,null,null,null,null,null,null,null,null,null,null,null,142]
[null,null,null,null,null,null,null,null,null,null,null,null,null,null,null,null,null,null,null,null,null,null,null,null,null,null,null,null,null,null,null,null,null,null,null,null,null,188]
[null,null,null,null,null,null,null,null,null,null,null,null,null,null,null,null,null,null,null,null,null,null,null,null,null,null,null,null,null,null,null,null,null,null,null,null,null,226]
[null,null,null,null,null,null,null,null,null,null,null,null,null,null,null,null,null,null,null,null,null,null,null,null,null,null,null,null,null,null,null,null,null,null,null,null,null,244]
[null,null,null,null,null,null,null,null,null,null,null,null,null,null,null,null,null,null,null,null,null,null,null,null,null,null,null,null,null,null,null,null,null,null,null,null,null,254]
[null,null,null,null,null,null,null,null,null,null,null,null,null,null,null,null,null,null,null,null,null,null,null,null,null,null,null,null,null,null,null,null,null,null,null,null,null,282]
[null,null,null,null,null,null,null,null,null,null,null,null,null,null,null,null,null,null,null,null,null,null,null,null,null,null,null,null,null,null,null,null,null,null,null,null,null,283]
[null,null,null,null,null,null,null,null,null,null,null,null,null,null,null,null,null,null,null,null,null,null,null,null,null,null,null,null,null,null,null,null,null,null,null,null,null,301]
[null,null,null,null,null,null,null,null,null,null,null,null,null,null,null,null,null,null,null,null,null,null,null,null,null,null,null,null,null,null,null,null,null,null,null,null,null,316]
[null,null,null,null,null,null,null,null,null,null,null,null,null,null,null,null,null,null,null,null,null,null,null,null,null,null,null,null,null,null,null,null,null,null,null,null,null,317]
[null,null,null,null,null,null,null,null,null,null,null,null,null,null,null,null,null,null,null,null,null,null,null,null,null,null,null,null,null,null,null,null,null,null,null,null,null,318]
[null,null,null,null,null,null,null,null,null,null,null,null,null,null,null,null,null,null,null,null,null,null,null,null,null,null,null,null,null,null,null,null,null,null,null,null,null,325]
[null,null,null,null,null,null,null,null,null,null,null,null,null,null,null,null,null,null,null,null,null,null,null,null,null,null,null,null,null,null,null,null,null,null,null,null,null,327]
[null,null,null,null,null,null,null,null,null,null,null,null,null,null,null,null,null,null,null,null,null,null,null,null,null,null,null,null,null,null,null,null,null,null,null,null,null,344]
[null,null,null,null,null,null,null,null,null,null,null,null,null,null,null,null,null,null,null,null,null,null,null,null,null,null,null,null,null,null,null,null,null,null,null,null,null,346]
[null,null,null,null,null,null,null,null,null,null,null,null,null,null,null,null,null,null,null,null,null,null,null,null,null,null,null,null,null,null,null,null,null,null,null,null,null,358]
[null,null,null,null,null,null,null,null,null,null,null,null,null,null,null,null,null,null,null,null,null,null,null,null,null,null,null,null,null,null,null,null,null,null,null,null,null,359]
[null,null,null,null,null,null,null,null,null,null,null,null,null,null,null,null,null,null,null,null,null,null,null,null,null,null,null,null,null,null,null,null,null,null,null,null,null,368]
[null,null,null,null,null,null,null,null,null,null,null,null,null,null,null,null,null,null,null,null,null,null,null,null,null,null,null,null,null,null,null,null,null,null,null,null,null,378]
[null,null,null,null,null,null,null,null,null,null,null,null,null,null,null,null,null,null,null,null,null,null,null,null,null,null,null,null,null,null,null,null,null,null,null,null,null,379]
[null,null,null,null,null,null,null,null,null,null,null,null,null,null,null,null,null,null,null,null,null,null,null,null,null,null,null,null,null,null,null,null,null,null,null,null,null,389]
[null,null,null,null,null,null,null,null,null,null,null,null,null,null,null,null,null,null,null,null,null,null,null,null,null,null,null,null,null,null,null,null,null,null,null,null,null,390]
[null,null,null,null,null,null,null,null,null,null,null,null,null,null,null,null,null,null,null,null,null,null,null,null,null,null,null,null,null,null,null,null,null,null,null,null,null,397]
[null,null,null,null,null,null,null,null,null,null,null,null,null,null,null,null,null,null,null,null,null,null,null,null,null,null,null,null,null,null,null,null,null,null,null,null,null,418]
[null,null,null,null,null,null,null,null,null,null,null,null,null,null,null,null,null,null,null,null,null,null,null,null,null,null,null,null,null,null,null,null,null,null,null,null,null,434]
[null,null,null,null,null,null,null,null,null,null,null,null,null,null,null,null,null,null,null,null,null,null,null,null,null,null,null,null,null,null,null,null,null,null,null,null,null,463]
[null,null,null,null,null,null,null,null,null,null,null,null,null,null,null,null,null,null,null,null,null,null,null,null,null,null,null,null,null,null,null,null,null,null,null,null,null,465]
[null,null,null,null,null,null,null,null,null,null,null,null,null,null,null,null,null,null,null,null,null,null,null,null,null,null,null,null,null,null,null,null,null,null,null,null,null,475]
[null,null,null,null,null,null,null,null,null,null,null,null,null,null,null,null,null,null,null,null,null,null,null,null,null,null,null,null,null,null,null,null,null,null,null,null,null,476]
[null,null,null,null,null,null,null,null,null,null,null,null,null,null,null,null,null,null,null,null,null,null,null,null,null,null,null,null,null,null,null,null,null,null,null,null,null,480]
[null,null,null,null,null,null,null,null,null,null,null,null,null,null,null,null,null,null,null,null,null,null,null,null,null,null,null,null,null,null,null,null,null,null,null,null,null,485]
[null,null,null,null,null,null,null,null,null,null,null,null,null,null,null,null,null,null,null,null,null,null,null,null,null,null,null,null,null,null,null,null,null,null,null,null,null,486]
[null,null,null,null,null,null,null,null,null,null,null,null,null,null,null,null,null,null,null,null,null,null,null,null,null,null,null,null,null,null,null,null,null,null,null,null,null,493]
[null,null,null,null,null,null,null,null,null,null,null,null,null,null,null,null,null,null,null,null,null,null,null,null,null,null,null,null,null,null,null,null,null,null,null,null,null,535]
[null,null,null,null,null,null,null,null,null,null,null,null,null,null,null,null,null,null,null,null,null,null,null,null,null,null,null,null,null,null,null,null,null,null,null,null,null,536]
[null,null,null,null,null,null,null,null,null,null,null,null,null,null,null,null,null,null,null,null,null,null,null,null,null,null,null,null,null,null,null,null,null,null,null,null,null,553]
[null,null,null,null,null,null,null,null,null,null,null,null,null,null,null,null,null,null,null,null,null,null,null,null,null,null,null,null,null,null,null,null,null,null,null,null,null,565]
[null,null,null,null,null,null,null,null,null,null,null,null,null,null,null,null,null,null,null,null,null,null,null,null,null,null,null,null,null,null,null,null,null,null,null,null,null,574]
[null,null,null,null,null,null,null,null,null,null,null,null,null,null,null,null,null,null,null,null,null,null,null,null,null,null,null,null,null,null,null,null,null,null,null,null,null,584]
[null,null,null,null,null,null,null,null,null,null,null,null,null,null,null,null,null,null,null,null,null,null,null,null,null,null,null,null,null,null,null,null,null,null,null,null,null,585]
[null,null,null,null,null,null,null,null,null,null,null,null,null,null,null,null,null,null,null,null,null,null,null,null,null,null,null,null,null,null,null,null,null,null,null,null,null,621]
[null,null,null,null,null,null,null,null,null,null,null,null,null,null,null,null,null,null,null,null,null,null,null,null,null,null,null,null,null,null,null,null,null,null,null,null,null,623]
[null,null,null,null,null,null,null,null,null,null,null,null,null,null,null,null,null,null,null,null,null,null,null,null,null,null,null,null,null,null,null,null,null,null,null,null,null,624]
[null,null,null,null,null,null,null,null,null,null,null,null,null,null,null,null,null,null,null,null,null,null,null,null,null,null,null,null,null,null,null,null,null,null,null,null,null,625]
[null,null,null,null,null,null,null,null,null,null,null,null,null,null,null,null,null,null,null,null,null,null,null,null,null,null,null,null,null,null,null,null,null,null,null,null,null,626]
[null,null,null,null,null,null,null,null,null,null,null,null,null,null,null,null,null,null,null,null,null,null,null,null,null,null,null,null,null,null,null,null,null,null,null,null,null,627]
[null,null,null,null,null,null,null,null,null,null,null,null,null,null,null,null,null,null,null,null,null,null,null,null,null,null,null,null,null,null,null,null,null,null,null,null,null,"51-1"]
[null,null,null,null,null,null,null,null,null,null,null,null,null,null,null,null,null,null,null,null,null,null,null,null,null,null,null,null,null,null,null,null,null,null,null,null,null,"51-2"]

{"sheet":"品種台帳","index":5,"n_rows":3,"n_cols":3,"rows_kept":3,"cut":false,"hidden":false,"merged":[]}
[]
[]
["データ１","データ２","品種名"]

{"sheet":"ほ場台帳","index":6,"n_rows":3,"n_cols":7,"rows_kept":3,"cut":false,"hidden":false,"merged":[]}
[]
[]
["データ１","データ２","ほ場番号","ほ場名","地番","面積","品種"]

{"sheet":"作業台帳","index":7,"n_rows":4,"n_cols":4,"rows_kept":4,"cut":false,"hidden":false,"merged":[]}
[]
[]
[]
["データ１","データ２","作業名","機械名"]

{"sheet":"機械台帳","index":8,"n_rows":4,"n_cols":3,"rows_kept":4,"cut":false,"hidden":false,"merged":[]}
[]
[]
[]
["データ１","データ２","機械名"]

{"sheet":"農薬台帳","index":9,"n_rows":4,"n_cols":4,"rows_kept":4,"cut":false,"hidden":false,"merged":[]}
[null,0]
[]
[]
["データ１","データ２","農薬名","区分"]

{"sheet":"肥料台帳","index":10,"n_rows":4,"n_cols":4,"rows_kept":4,"cut":false,"hidden":false,"merged":[]}
[]
[]
[]
["データ１","データ２","肥料名","区分"]

{"sheet":"生産履歴票設定保存","index":11,"n_rows":6,"n_cols":447,"rows_kept":6,"cut":false,"hidden":false,"merged":[]}
[]
["フォーマット名に空白があった場合には、その行以降のデータは読み込むことができなくなります。"]
["フォーマット名","工程区分１",null,null,null,null,null,null,null,null,null,null,null,null,null,null,null,null,null,null,null,null,null,null,null,null,null,null,null,null,null,null,null,null,null,null,null,null,null,null,null,null,null,null,null,null,null,null,null,null,null,null,null,null,null,null,null,null,null,null,null,null,null,null,null,null,null,null,null,null,null,null,null,null,null,null,null,null,null,null,null,null,null,null,null,null,null,null,null,"工程区分２",null,null,null,null,null,null,null,null,null,null,null,null,null,null,null,null,null,null,null,null,null,null,null,null,null,null,null,null,null,null,null,null,null,null,null,null,null,null,null,null,null,null,null,null,null,null,null,null,null,null,null,null,null,null,null,null,null,null,null,null,null,null,null,null,null,null,null,null,null,null,null,null,null,null,null,null,null,null,null,null,null,null,null,null,null,null,null,"工程区分３",null,null,null,null,null,null,null,null,null,null,null,null,null,null,null,null,null,null,null,null,null,null,null,null,null,null,null,null,null,null,null,null,null,null,null,null,null,null,null,null,null,null,null,null,null,null,null,null,null,null,null,null,null,null,null,null,null,null,null,null,null,null,null,null,null,null,null,null,null,null,null,null,null,null,null,null,null,null,null,null,null,null,null,null,null,null,null,"工程区分４",null,null,null,null,null,null,null,null,null,null,null,null,null,null,null,null,null,null,null,null,null,null,null,null,null,null,null,null,null,null,null,null,null,null,null,null,null,null,null,null,null,null,null,null,null,null,null,null,null,null,null,null,null,null,null,null,null,null,null,null,null,null,null,null,null,null,null,null,null,null,null,null,null,null,null,null,null,null,null,null,null,null,null,null,null,null,null,"工程区分５"]
[null,"工程区分名","データシート","対象作業-1","対象作業-2","対象作業-3","対象作業-4","対象作業-5","対象作業-6","対象作業-7","対象作業-8","対象作業-9","対象作業-10","対象作業-11","対象作業-12","対象作業-13","対象作業-14","項目-1","項目-2","項目-3","項目-4","項目-5","項目-6","列記号１-1","列記号１-2","列記号１-3","列記号１-4","列記号１-5","列記号１-6","列記号２-1","列記号２-2","列記号２-3","列記号２-4","列記号２-5","列記号２-6","列記号３-1","列記号３-2","列記号３-3","列記号３-4","列記号３-5","列記号３-6","列記号４-1","列記号４-2","列記号４-3","列記号４-4","列記号４-5","列記号４-6","複数データ-1","複数データ-2","複数データ-3","複数データ-4","複数データ-5","複数データ-6","リンク１台帳名-1","リンク１台帳名-2","リンク１台帳名-3","リンク１台帳名-4","リンク１台帳名-5","リンク１台帳名-6","リンク１元列名-1","リンク１元列名-2","リンク１元列名-3","リンク１元列名-4","リンク１元列名-5","リンク１元列名-6","リンク１先列名-1","リンク１先列名-2","リンク１先列名-3","リンク１先列名-4","リンク１先列名-5","リンク１先列名-6","リンク２台帳名-1","リンク２台帳名-2","リンク２台帳名-3","リンク２台帳名-4","リンク２台帳名-5","リンク２台帳名-6","リンク２元列名-1","リンク２元列名-2","リンク２元列名-3","リンク２元列名-4","リンク２元列名-5","リンク２元列名-6","リンク２先列名-1","リンク２先列名-2","リンク２先列名-3","リンク２先列名-4","リンク２先列名-5","リンク２先列名-6","工程区分名","データシート","対象作業-1","対象作業-2","対象作業-3","対象作業-4","対象作業-5","対象作業-6","対象作業-7","対象作業-8","対象作業-9","対象作業-10","対象作業-11","対象作業-12","対象作業-13","対象作業-14","項目-1","項目-2","項目-3","項目-4","項目-5","項目-6","列記号１-1","列記号１-2","列記号１-3","列記号１-4","列記号１-5","列記号１-6","列記号２-1","列記号２-2","列記号２-3","列記号２-4","列記号２-5","列記号２-6","列記号３-1","列記号３-2","列記号３-3","列記号３-4","列記号３-5","列記号３-6","列記号４-1","列記号４-2","列記号４-3","列記号４-4","列記号４-5","列記号４-6","複数データ-1","複数データ-2","複数データ-3","複数データ-4","複数データ-5","複数データ-6","リンク１台帳名-1","リンク１台帳名-2","リンク１台帳名-3","リンク１台帳名-4","リンク１台帳名-5","リンク１台帳名-6","リンク１元列名-1","リンク１元列名-2","リンク１元列名-3","リンク１元列名-4","リンク１元列名-5","リンク１元列名-6","リンク１先列名-1","リンク１先列名-2","リンク１先列名-3","リンク１先列名-4","リンク１先列名-5","リンク１先列名-6","リンク２台帳名-1","リンク２台帳名-2","リンク２台帳名-3","リンク２台帳名-4","リンク２台帳名-5","リンク２台帳名-6","リンク２元列名-1","リンク２元列名-2","リンク２元列名-3","リンク２元列名-4","リンク２元列名-5","リンク２元列名-6","リンク２先列名-1","リンク２先列名-2","リンク２先列名-3","リンク２先列名-4","リンク２先列名-5","リンク２先列名-6","工程区分名","データシート","対象作業-1","対象作業-2","対象作業-3","対象作業-4","対象作業-5","対象作業-6","対象作業-7","対象作業-8","対象作業-9","対象作業-10","対象作業-11","対象作業-12","対象作業-13","対象作業-14","項目-1","項目-2","項目-3","項目-4","項目-5","項目-6","列記号１-1","列記号１-2","列記号１-3","列記号１-4","列記号１-5","列記号１-6","列記号２-1","列記号２-2","列記号２-3","列記号２-4","列記号２-5","列記号２-6","列記号３-1","列記号３-2","列記号３-3","列記号３-4","列記号３-5","列記号３-6","列記号４-1","列記号４-2","列記号４-3","列記号４-4","列記号４-5","列記号４-6","複数データ-1","複数データ-2","複数データ-3","複数データ-4","複数データ-5","複数データ-6","リンク１台帳名-1","リンク１台帳名-2","リンク１台帳名-3","リンク１台帳名-4","リンク１台帳名-5","リンク１台帳名-6","リンク１元列名-1","リンク１元列名-2","リンク１元列名-3","リンク１元列名-4","リンク１元列名-5","リンク１元列名-6","リンク１先列名-1","リンク１先列名-2","リンク１先列名-3","リンク１先列名-4","リンク１先列名-5","リンク１先列名-6","リンク２台帳名-1","リンク２台帳名-2","リンク２台帳名-3","リンク２台帳名-4","リンク２台帳名-5","リンク２台帳名-6","リンク２元列名-1","リンク２元列名-2","リンク２元列名-3","リンク２元列名-4","リンク２元列名-5","リンク２元列名-6","リンク２先列名-1","リンク２先列名-2","リンク２先列名-3","リンク２先列名-4","リンク２先列名-5","リンク２先列名-6","工程区分名","データシート","対象作業-1","対象作業-2","対象作業-3","対象作業-4","対象作業-5","対象作業-6","対象作業-7","対象作業-8","対象作業-9","対象作業-10","対象作業-11","対象作業-12","対象作業-13","対象作業-14","項目-1","項目-2","項目-3","項目-4","項目-5","項目-6","列記号１-1","列記号１-2","列記号１-3","列記号１-4","列記号１-5","列記号１-6","列記号２-1","列記号２-2","列記号２-3","列記号２-4","列記号２-5","列記号２-6","列記号３-1","列記号３-2","列記号３-3","列記号３-4","列記号３-5","列記号３-6","列記号４-1","列記号４-2","列記号４-3","列記号４-4","列記号４-5","列記号４-6","複数データ-1","複数データ-2","複数データ-3","複数データ-4","複数データ-5","複数データ-6","リンク１台帳名-1","リンク１台帳名-2","リンク１台帳名-3","リンク１台帳名-4","リンク１台帳名-5","リンク１台帳名-6","リンク１元列名-1","リンク１元列名-2","リンク１元列名-3","リンク１元列名-4","リンク１元列名-5","リンク１元列名-6","リンク１先列名-1","リンク１先列名-2","リンク１先列名-3","リンク１先列名-4","リンク１先列名-5","リンク１先列名-6","リンク２台帳名-1","リンク２台帳名-2","リンク２台帳名-3","リンク２台帳名-4","リンク２台帳名-5","リンク２台帳名-6","リンク２元列名-1","リンク２元列名-2","リンク２元列名-3","リンク２元列名-4","リンク２元列名-5","リンク２元列名-6","リンク２先列名-1","リンク２先列名-2","リンク２先列名-3","リンク２先列名-4","リンク２先列名-5","リンク２先列名-6","工程区分名","データシート","対象作業-1","対象作業-2","対象作業-3","対象作業-4","対象作業-5","対象作業-6","対象作業-7","対象作業-8","対象作業-9","対象作業-10","対象作業-11","対象作業-12","対象作業-13","対象作業-14","項目-1","項目-2","項目-3","項目-4","項目-5","項目-6","列記号１-1","列記号１-2","列記号１-3","列記号１-4","列記号１-5","列記号１-6","列記号２-1","列記号２-2","列記号２-3","列記号２-4","列記号２-5","列記号２-6","列記号３-1","列記号３-2","列記号３-3","列記号３-4","列記号３-5","列記号３-6","列記号４-1","列記号４-2","列記号４-3","列記号４-4","列記号４-5","列記号４-6","複数データ-1","複数データ-2","複数データ-3","複数データ-4","複数データ-5","複数データ-6","リンク１台帳名-1","リンク１台帳名-2","リンク１台帳名-3","リンク１台帳名-4","リンク１台帳名-5","リンク１台帳名-6","リンク１元列名-1","リンク１元列名-2","リンク１元列名-3","リンク１元列名-4","リンク１元列名-5","リンク１元列名-6","リンク１先列名-1","リンク１先列名-2","リンク１先列名-3","リンク１先列名-4","リンク１先列名-5","リンク１先列名-6","リンク２台帳名-1","リンク２台帳名-2","リンク２台帳名-3","リンク２台帳名-4","リンク２台帳名-5","リンク２台帳名-6","リンク２元列名-1","リンク２元列名-2","リンク２元列名-3","リンク２元列名-4","リンク２元列名-5","リンク２元列名-6","リンク２先列名-1","リンク２先列名-2","リンク２先列名-3","リンク２先列名-4","リンク２先列名-5","リンク２先列名-6","列幅-1","列幅-2","列幅-3","列幅-4","列幅-5","列幅-6"]
["新規作成"]
["新しい名前で保存"]

{"sheet":"作業用","index":12,"n_rows":1,"n_cols":2,"rows_kept":1,"cut":false,"hidden":false,"merged":[]}
[null,"ほ場選択リスト"]